BEGIN:VCALENDAR
VERSION:2.0
PRODID:-//C.M.A.K. Cerkno - ECPv5.10.0//NONSGML v1.0//EN
CALSCALE:GREGORIAN
METHOD:PUBLISH
X-WR-CALNAME:C.M.A.K. Cerkno
X-ORIGINAL-URL:https://cmakcerkno.net
X-WR-CALDESC:Events for C.M.A.K. Cerkno
BEGIN:VTIMEZONE
TZID:Europe/Ljubljana
BEGIN:DAYLIGHT
TZOFFSETFROM:+0100
TZOFFSETTO:+0200
TZNAME:CEST
DTSTART:20150329T010000
END:DAYLIGHT
BEGIN:STANDARD
TZOFFSETFROM:+0200
TZOFFSETTO:+0100
TZNAME:CET
DTSTART:20151025T010000
END:STANDARD
END:VTIMEZONE
BEGIN:VEVENT
DTSTART;TZID=Europe/Ljubljana:20151114T210000
DTEND;TZID=Europe/Ljubljana:20151114T235500
DTSTAMP:20260420T115727
CREATED:20151008T170159Z
LAST-MODIFIED:20151110T173515Z
UID:1549-1447534800-1447545300@cmakcerkno.net
SUMMARY:Nazaj u cajt - ta sedm bart
DESCRIPTION:Letos vas že sedmo leto za povrstjo vabimo\, da se skupaj z nami s pomočjo glasbenih taktov podate v preteklost\, točneje v 80. leta. Takrat so iz radijev in TV-jev prvič odmevali mnogi tuji pop in rock zimzeleni hiti\, ki  jim radi prisluhnemo še danes. Vsekakor vabljeni\, če vam je takšna glasba pri srcu\, sploh\, ker se boste lahko ob njej tudi zavrteli\, lahko tudi okrog svoje osi. \nPrijazni DJ bo tudi letos dobrodušno izpolnjeval glasbene želje. Edino pogoj\, ki ga postavlja je ta\, da je skladba nastala med leti 1970 in 1980 (kakšno leto gor ali dol!). Se vidimo v soboto\, 14. 11. 2015 od 21. ure naprej!
URL:https://cmakcerkno.net/event/nazaj-u-cajt-ta-sedm-bart/
LOCATION:C.M.A.K. Cerkno\, Bevkova ulica 22\, Cerkno\, 5282\, Slovenija
CATEGORIES:Klubski večer
END:VEVENT
END:VCALENDAR