BEGIN:VCALENDAR
VERSION:2.0
PRODID:-//C.M.A.K. Cerkno - ECPv5.10.0//NONSGML v1.0//EN
CALSCALE:GREGORIAN
METHOD:PUBLISH
X-WR-CALNAME:C.M.A.K. Cerkno
X-ORIGINAL-URL:https://cmakcerkno.net
X-WR-CALDESC:Events for C.M.A.K. Cerkno
BEGIN:VTIMEZONE
TZID:Europe/Ljubljana
BEGIN:DAYLIGHT
TZOFFSETFROM:+0100
TZOFFSETTO:+0200
TZNAME:CEST
DTSTART:20220327T010000
END:DAYLIGHT
BEGIN:STANDARD
TZOFFSETFROM:+0200
TZOFFSETTO:+0100
TZNAME:CET
DTSTART:20221030T010000
END:STANDARD
END:VTIMEZONE
BEGIN:VEVENT
DTSTART;TZID=Europe/Ljubljana:20220501T080000
DTEND;TZID=Europe/Ljubljana:20220531T233000
DTSTAMP:20260419T192301
CREATED:20220523T202040Z
LAST-MODIFIED:20220523T202609Z
UID:4817-1651392000-1654039800@cmakcerkno.net
SUMMARY:Natečaj Mladi v Stopnišču 2022
DESCRIPTION:Natečaj za dijake\, študente in ostale mlade\n\n\n\n Kaj: Samostojna ali skupinska razstava v galeriji Stopnišče.   \nKje: Mladinski center C.M.A.K. Cerkno.  \n Namenjen: vsem mladim od 15. do 30. leta starosti.   \nRok za prijavo: 31. maj 2022  \n  \n\n\n\nMladinski center C.M.A.K. Cerkno vabi dijake in študente k sodelovanju na natečaju Mladi v Stopnišču – javnem razpisu za projekt mladega umetnika ali umetnice (do 30. leta starosti) na področju vizualne umetnosti (slikarstvo\, ilustracija\, grafika\, kolaž\, fotografija\, kiparstvo\, instalacija\, video\, performans\, knjiga umetnika\, foto knjiga\, plakat …). Namen razpisa Mladi v Stopnišču je\, da mladim ustvarjalcem omogoči predstavitev v galeriji\, kjer se spoznajo z organizacijo in izvedbo razstave. Izbranim prijaviteljem bomo omogočili strokovno (izbor del\, postavitev razstave\, oblikovanje plakata in letaka) in tehnično pomoč (orodje\, oprema)\, predstavitev in promocijo v medijih ter kritje potnih stroškov in otvoritvene pogostitve. Izbrali bomo projekte\, ki se bodo v letu 2022 predstavili s samostojno ali skupinsko razstavo v galeriji Stopnišče Mladinskega centra C.M.A.K. Cerkno. Na razpis se lahko prijavi en sam avtor ali več avtorjev skupaj. Pri izbiri bomo upoštevali izrazno in vsebinsko izvirnost. \n\n\n\nPrijava naj vsebuje: \n\n\n\n\nime in priimek\, leto rojstva\, kraj bivanja avtorja\,\nkontakt avtorja (elektronska pošta\, poštni naslov ali telefon)\,\nkratek življenjepis ali izjava avtorja o sebi in svojem delu\,\nkratek opis projekta\, ki vključuje okvirne tehnične zahteve in največ deset fotografij vašega dosedanjega dela (ne pošiljajte originalnih del)\n\n\n\n\nPrijave sprejemamo na naslov: cmak2@siol.net (Zadeva: Mladi v Stopnišču)\,ali po pošti:Cerkljanski mladinski alternativni klubMočnikova ulica 15282 Cerknos pripisom: “Natečaj Mladi v Stopnišču “-Prav tako pa se lahko prijavite tudi prek zasebnega sporočila na naših Facebook in Instagram straneh. \n\n\n\nVeč informacij na cmak2@siol.net ali 051 253 220 (Sebastjan)
URL:https://cmakcerkno.net/event/natecaj-mladi-v-stopniscu-2022/
LOCATION:Galerija Stopnišče\, Bevkova 22\, Cerkno\, 5282\, Slovenija
CATEGORIES:Natečaj
END:VEVENT
END:VCALENDAR