BEGIN:VCALENDAR
VERSION:2.0
PRODID:-//C.M.A.K. Cerkno - ECPv5.10.0//NONSGML v1.0//EN
CALSCALE:GREGORIAN
METHOD:PUBLISH
X-WR-CALNAME:C.M.A.K. Cerkno
X-ORIGINAL-URL:https://cmakcerkno.net
X-WR-CALDESC:Events for C.M.A.K. Cerkno
BEGIN:VTIMEZONE
TZID:Europe/Ljubljana
BEGIN:DAYLIGHT
TZOFFSETFROM:+0100
TZOFFSETTO:+0200
TZNAME:CEST
DTSTART:20150329T010000
END:DAYLIGHT
BEGIN:STANDARD
TZOFFSETFROM:+0200
TZOFFSETTO:+0100
TZNAME:CET
DTSTART:20151025T010000
END:STANDARD
END:VTIMEZONE
BEGIN:VEVENT
DTSTART;VALUE=DATE:20150531
DTEND;VALUE=DATE:20150608
DTSTAMP:20260421T063345
CREATED:20150129T152110Z
LAST-MODIFIED:20150129T152110Z
UID:940-1433030400-1433721599@cmakcerkno.net
SUMMARY:Mednarodni prostovoljni tabor
DESCRIPTION:več info kmalu …
URL:https://cmakcerkno.net/event/mednarodni-prostovoljni-tabor-2/
LOCATION:Straža pri Cerknem\, Straža pri Cerknem\, 5282\, Slovenia
CATEGORIES:Prostovoljstvo
END:VEVENT
END:VCALENDAR