BEGIN:VCALENDAR
VERSION:2.0
PRODID:-//C.M.A.K. Cerkno - ECPv5.10.0//NONSGML v1.0//EN
CALSCALE:GREGORIAN
METHOD:PUBLISH
X-WR-CALNAME:C.M.A.K. Cerkno
X-ORIGINAL-URL:https://cmakcerkno.net
X-WR-CALDESC:Events for C.M.A.K. Cerkno
BEGIN:VTIMEZONE
TZID:Europe/Ljubljana
BEGIN:DAYLIGHT
TZOFFSETFROM:+0100
TZOFFSETTO:+0200
TZNAME:CEST
DTSTART:20170326T010000
END:DAYLIGHT
BEGIN:STANDARD
TZOFFSETFROM:+0200
TZOFFSETTO:+0100
TZNAME:CET
DTSTART:20171029T010000
END:STANDARD
END:VTIMEZONE
BEGIN:VEVENT
DTSTART;TZID=Europe/Ljubljana:20170506T190000
DTEND;TZID=Europe/Ljubljana:20170512T200000
DTSTAMP:20260420T193833
CREATED:20170505T144909Z
LAST-MODIFIED:20170505T144941Z
UID:2325-1494097200-1494619200@cmakcerkno.net
SUMMARY:Martin Štamcar - razstava koncertnih fotografij
DESCRIPTION:  \n \n  \nMartin Štamcar je zagnani aktivist Zavoda O in MKC-ja Pri Rdeči Ostrigi.Zadnjih nekaj let se ljubiteljsko ukvarja s fotografijo\, obenem pa je tudi del memorialne ekipe in uradni fotograf festivala “In Memoriam prof. Peter Hafner”. V ospredju njegovega zanimanja je predvsem koncertna fotografija. Predstavil bo izbor koncertnih fotografij\, ki so nastale v letih 2013 – 2017.
URL:https://cmakcerkno.net/event/martin-stamcar-razstava-koncertnih-fotografij/
LOCATION:Galerija Križišče\, Bevkova ulica 11 \, Cerkno\, 5282\, Slovenija
CATEGORIES:Razstava
END:VEVENT
END:VCALENDAR