BEGIN:VCALENDAR
VERSION:2.0
PRODID:-//C.M.A.K. Cerkno - ECPv5.10.0//NONSGML v1.0//EN
CALSCALE:GREGORIAN
METHOD:PUBLISH
X-WR-CALNAME:C.M.A.K. Cerkno
X-ORIGINAL-URL:https://cmakcerkno.net
X-WR-CALDESC:Events for C.M.A.K. Cerkno
BEGIN:VTIMEZONE
TZID:Europe/Ljubljana
BEGIN:DAYLIGHT
TZOFFSETFROM:+0100
TZOFFSETTO:+0200
TZNAME:CEST
DTSTART:20230326T010000
END:DAYLIGHT
BEGIN:STANDARD
TZOFFSETFROM:+0200
TZOFFSETTO:+0100
TZNAME:CET
DTSTART:20231029T010000
END:STANDARD
END:VTIMEZONE
BEGIN:VEVENT
DTSTART;TZID=Europe/Ljubljana:20231215T190000
DTEND;TZID=Europe/Ljubljana:20231215T190000
DTSTAMP:20260421T021017
CREATED:20231103T140058Z
LAST-MODIFIED:20231113T134554Z
UID:5331-1702666800-1702666800@cmakcerkno.net
SUMMARY:Maja Pan - Predavanje: Lezbijke in lezbijški aktivizem v 80-ih // Bevkova knjižnica Cerkno
DESCRIPTION:Vabljene_i na predavanje s področja medijske pismenosti\nv petek\, 15. decembra 2023\, ob 19. uri\nv Bevkovi knjižnici Cerkno (Platiševa ulica 5\, Cerkno). \n \nMaja Pan bo v svojem predavanju obravnavala lezbištvo skozi prizmo avtonomnega lezbičnega organiziranja v Sloveniji\, ki je vključevalo stike in sodelovanja z jugoslovansko novo feministično sceno in slovenskim gejevskim gibanjem v kontekstu t. i. demokratizacijskih procesov: civilnodružbenih ter alternativnih gibanj v osemdesetih in zgodnjih devetdesetih letih 20. stoletja. \nSledili bomo poteku lezbičnega organiziranja do leta 1993\, ko je prišlo do zasedbe izpraznjenega kompleksa jugoslovanske vojske na Metelkovi ulici v Ljubljani\, danes znanega kot Avtonomni kulturni center Metelkova mesto. Kako je bilo lezbično gibanje razpeto med novim feminističnim in gejevskim gibanjem? Zakaj se je prva lezbična skupina v Jugoslaviji pojavila ravno v Sloveniji? In kaj pomeni\, da je bila ustanovljena »performativno«? \nMaja Pan je doktorica filozofije ter magistrica ženskih študij in feministične teorije (Filozofska fakulteta Univerze v Ljubljani\, Oddelek za filozofijo). Znanstveno in raziskovalno deluje kot feministična teoretičarka in neodvisna raziskovalka. Je avtorica in soavtorica več znanstvenih člankov ter poglavij v mednarodnih ter domačih publikacijah s polja humanistike in družbenih ved. \nČKZ (Časopis za kritiko znanosti) je revija\, ki že pet desetletij kritično premišlja\, reflektira in opozarja na marginalizirane ali ranljive dele družbe\, kar dokazujejo tudi številne izdaje revije\, kot so Ženske v znanosti\, Zamolčane zgodovine I\, Mesto žensk – Zamolčane zgodovine II\, Zelene politike/Begunci\, Balkanska migracijska pot\, Nasilje nad LGBT mladino in odraslimi idr. ČKZ teh tem ne premišlja in nanje ne opozarja le s tiskano besedo raziskovalk/-cev in znanstvenic/-kov\, ampak se tudi aktivno bori za pravice ranljivih skupin v različnih aktivističnih pobudah. V tem kontekstu s ciklom predavanj širimo naša teoretska in praktična prizadevanja za ozaveščanje in sprejemanje ranljivih skupin v Sloveniji. \nProjektni partnerji: ČKZ\, Ministrstvo za kulturo RS\, Forum Tomizza 2022\, C.M.A.K. in Mestna knjižnica in čitalnica Idrija
URL:https://cmakcerkno.net/event/maja-pan-predavanje-lezbijke-in-lezbijski-aktivizem-v-80-ih/
LOCATION:Bevkova knjižnica Cerkno\, Platiševa ulica 5\, Cerkno\, 5282\, Slovenija
CATEGORIES:Predavanje,Predstavitev in debata
END:VEVENT
END:VCALENDAR