BEGIN:VCALENDAR
VERSION:2.0
PRODID:-//C.M.A.K. Cerkno - ECPv5.10.0//NONSGML v1.0//EN
CALSCALE:GREGORIAN
METHOD:PUBLISH
X-WR-CALNAME:C.M.A.K. Cerkno
X-ORIGINAL-URL:https://cmakcerkno.net
X-WR-CALDESC:Events for C.M.A.K. Cerkno
BEGIN:VTIMEZONE
TZID:Europe/Ljubljana
BEGIN:DAYLIGHT
TZOFFSETFROM:+0100
TZOFFSETTO:+0200
TZNAME:CEST
DTSTART:20170326T010000
END:DAYLIGHT
BEGIN:STANDARD
TZOFFSETFROM:+0200
TZOFFSETTO:+0100
TZNAME:CET
DTSTART:20171029T010000
END:STANDARD
END:VTIMEZONE
BEGIN:VEVENT
DTSTART;TZID=Europe/Ljubljana:20171118T190000
DTEND;TZID=Europe/Ljubljana:20171201T120000
DTSTAMP:20260422T122502
CREATED:20171123T110318Z
LAST-MODIFIED:20171123T184009Z
UID:2561-1511031600-1512129600@cmakcerkno.net
SUMMARY:Lea Krosis: Razstava ilustracij
DESCRIPTION:V galeriji Križišče se bo v drugi polovici novembra s svojimi ilustracijami predstavila mlada lokalna ilustratorka Lea Krosis. \nOtvoritev bo v soboto 18.11. ob 19.oo\, razstava pa bo na ogled do 1. decembra. \nLea se je po končani Srednji šoli za oblikovanje in fotografijo v Ljubljani vpisala na Fakulteto za dizajn\, smer vizualne komunikacije\, trenutno pa je absolventka. Svoj čas najraje posveti ilustriranju\, saj je njena največja želja se s tem preživljati. Svoje ilustracije ustvarja tako tradicionalno kot digitalno\, večina pa jih je kombinirane tehnike. Inspiracijo črpa iz japonske kulture in video iger. Kadar Lea ne ilustrira\, pa se ukvarja s šivanjem\, oblikovanjem\, fotografijo in igranjem računalniških iger. \nhttps://www.instagram.com/leakrosisart/
URL:https://cmakcerkno.net/event/lea-krosis-razstava-ilustracij/
LOCATION:Galerija Križišče\, Bevkova ulica 11 \, Cerkno\, 5282\, Slovenija
CATEGORIES:Razstava
END:VEVENT
END:VCALENDAR