BEGIN:VCALENDAR
VERSION:2.0
PRODID:-//C.M.A.K. Cerkno - ECPv5.10.0//NONSGML v1.0//EN
CALSCALE:GREGORIAN
METHOD:PUBLISH
X-WR-CALNAME:C.M.A.K. Cerkno
X-ORIGINAL-URL:https://cmakcerkno.net
X-WR-CALDESC:Events for C.M.A.K. Cerkno
BEGIN:VTIMEZONE
TZID:Europe/Ljubljana
BEGIN:DAYLIGHT
TZOFFSETFROM:+0100
TZOFFSETTO:+0200
TZNAME:CEST
DTSTART:20190331T010000
END:DAYLIGHT
BEGIN:STANDARD
TZOFFSETFROM:+0200
TZOFFSETTO:+0100
TZNAME:CET
DTSTART:20191027T010000
END:STANDARD
END:VTIMEZONE
BEGIN:VEVENT
DTSTART;TZID=Europe/Ljubljana:20191123T173000
DTEND;TZID=Europe/Ljubljana:20191123T173000
DTSTAMP:20260422T153304
CREATED:20191114T130408Z
LAST-MODIFIED:20191114T130454Z
UID:3734-1574530200-1574530200@cmakcerkno.net
SUMMARY:Kviz #VsakDan8Marec
DESCRIPTION:Zakaj mednarodni dan žensk praznujemo 8. marca?\na) Ker so ta datum na pobudo Clare Zetkin leta 1910 izbrale udeleženke 2. mednarodne konference socialističnih žensk.\nb) Ker je 8. februar že zaseden.\nc) Ker so 8. 3. 1857 tekstilne delavke v New Yorku prvič množično stavkale\, pa tudi v spomin na več kot sto štirideset delavk\, ki so leta 1911 umrle v požaru v tovarni Triangle. \nZakaj ga ne praznujemo vsak dan?\na) Saj ga! V Cerknem ga bomo praznovale/i v soboto\, 23. novembra 2019\, ob 17.30.\nb) Ekonomski\, politični in socialni enakopravnosti ter dosežkom žensk se bomo poklonile/i z igranjem kviza #VsakDan8Marec\, ki obsega vrsto vprašanj\, povezanih z zgodovinskimi in sedanjimi boji za pravice žensk na vseh področjih življenja.\nc) Pridi\, preveri svoje znanje in ga deli z drugimi tekmovalkami in tekmovalci. Kviz je primeren za staro in mlado. Pa še mini nagrade bodo! \nV soboto\, 23. novembra 2019\, ob 17.30\, v MC C.M.A.K. Cerkno na Močnikovi ulici 3. \nKviz vodita Tea Hvala in Urška Jež. \nKviz so ob mednarodnem dnevu žensk 2019 pripravile sodelavke Društva za promocijo žensk v kulturi – Mesto žensk: Ana Čigon\, Tea Hvala\, Urška Jež in Teja Reba. Izvedbo v Cerknem organizira Tea Hvala v sodelovanju z MC C.M.A.K. Cerkno in Društvom Mesto žensk. \nIstega dne v MC C.M.A.K. Cerkno od 13h dalje poteka tudi delavnica Šablonski sitotisk z Neveno Aleksovski. \nVabljene/i na medgeneracijsko\, (nad)družinsko in prijateljsko druženje ob ustvarjalnih in poučnih dejavnostih. \n* \nURŠKA JEŽ je diplomirana kulturologinja in magistrica menedžmenta nevladnih organizacij. Z Društvom Mesto žensk sodeluje od leta 2006\, od 2014 kot izvršna producentka. Pred tem je bila koordinatorica društva Asociacija in producentka Mednarodnega festivala animiranega filma Animateka. Kot sooblikovalka programa je v letih 2009-10 sodelovala pri projektu Kulturstik: pilotnem projektu uvajanja novih\, sodobnejših vsebin in metod kulturno-umetnostne vzgoje v kurikule osnovnih šol. \nTEA HVALA se giblje med številnimi dejavnostmi\, ki odražajo njeno zanimanje za uprizoritveno umetnost\, literaturo\, strip\, pedagogiko\, politično teorijo in samonikel aktivizem s feminističnim predznakom. Je publicistka\, prevajalka\, kritičarka umetnosti\, priložnostna urednica in predavateljica. V okviru cerkljanskega festivala Deuje babe tudi producentka. Diplomirala je iz primerjalne književnosti in sociologije kulture\, magistrirala iz antropologije spolov. Od l. 201
URL:https://cmakcerkno.net/event/kviz-vsakdan8marec/
LOCATION:MC C.M.A.K.\, Močnikova ulica 3\, Cerkno\, 5282\, Slovenija
CATEGORIES:Vplivamo
ATTACH;FMTTYPE=image/jpeg:https://cmakcerkno.net/wp-content/uploads/2019/11/kviz8marec.jpg
END:VEVENT
END:VCALENDAR