BEGIN:VCALENDAR
VERSION:2.0
PRODID:-//C.M.A.K. Cerkno - ECPv5.10.0//NONSGML v1.0//EN
CALSCALE:GREGORIAN
METHOD:PUBLISH
X-WR-CALNAME:C.M.A.K. Cerkno
X-ORIGINAL-URL:https://cmakcerkno.net
X-WR-CALDESC:Events for C.M.A.K. Cerkno
BEGIN:VTIMEZONE
TZID:Europe/Ljubljana
BEGIN:DAYLIGHT
TZOFFSETFROM:+0100
TZOFFSETTO:+0200
TZNAME:CEST
DTSTART:20220327T010000
END:DAYLIGHT
BEGIN:STANDARD
TZOFFSETFROM:+0200
TZOFFSETTO:+0100
TZNAME:CET
DTSTART:20221030T010000
END:STANDARD
END:VTIMEZONE
BEGIN:VEVENT
DTSTART;TZID=Europe/Ljubljana:20220717T190000
DTEND;TZID=Europe/Ljubljana:20220717T190000
DTSTAMP:20260420T213003
CREATED:20220707T104302Z
LAST-MODIFIED:20220707T112646Z
UID:4843-1658084400-1658084400@cmakcerkno.net
SUMMARY:Koncert: Parnepar\, nevemnevem | Festival In Memoriam prof. Peter Hafner #13
DESCRIPTION:CMAKoncert & Festival “In Memoriam prof. Peter Hafner” predstavljata:\n\n🎸 PARNEPAR 🎸\n➡ novi val za 21. stoletje ⬅\n\n\n📣 nevemnevem 📣\n➡ post punk / noise poezija v akciji ⬅\n\n\n🍀 Nedelja\, 17. 7. 2022 ob 19.00 🍀\n\n🎫 Brez vstopnine oz. prispevek po načelu ‘kolkor ma(s)te\, tolko da(s)te’\n\n\n🎼 NASTOPAJOČI: 🎼\n\n\n🎸 PARNEPAR 🎸\n🔹 je zasedba\, ki bi lahko bila sinonim za glasbena osemdeseta leta na Balkanu\, saj se v svojem ustvarjanju precej naslanjajo na jugoslovanski novi val (beri: Šarlo Akrobata\, Elekrični Orgazam\, Dobri Isak\, itd.). V štirih letih svojega obstoja so odigrali skoraj 100 koncertov in izdali dva albuma.\n📺 https://www.youtube.com/watch?v=MZqO7keRcV0 📺\n🎵 https://doomtownrecords.bandcamp.com/…/dobar-dan-izvolite 🎵\n\n\n📣 nevemnevem 📣\n🔹 ve\, koliko čisto malo ljudi je ostalo\, ki se vsake toliko poklonijo dolores\, ki zaide skozi gozd tipanja\, komaj opaznega tipanja. Mehanizem alge te rahlo zasleduje\, nikoli na hard\, vedno skozi koridorje zaposlenih\, ki se strinjajo\, venomer strinjajo\, da so želje za strahopetne in da se udarec podaljšuje v neprekinjen objem. Z nami se izžemi do zadnje kaplje potu. Ker\, tu je konec\, onkraj se nadaljuje svet.\n📺 https://www.youtube.com/watch?v=0OpoytA3acQ 📺\n🎵 https://zvocniprepihi.bandcamp.com/…/nevem-nevem-isto… 🎵
URL:https://cmakcerkno.net/event/koncert-parnepar-nevemnevem-festival-in-memoriam-prof-peter-hafner-13/
LOCATION:Star plac (Trg pri fontani)\, Cerkno\, Močnikova ulica 8\, Cerkno\, 5282\, Slovenija
CATEGORIES:CMAKoncert,Gostujemo
ATTACH;FMTTYPE=image/jpeg:https://cmakcerkno.net/wp-content/uploads/2022/07/In-memoriam-prof.-Peter-Hafner-2022.jpg
END:VEVENT
END:VCALENDAR