BEGIN:VCALENDAR
VERSION:2.0
PRODID:-//C.M.A.K. Cerkno - ECPv5.10.0//NONSGML v1.0//EN
CALSCALE:GREGORIAN
METHOD:PUBLISH
X-WR-CALNAME:C.M.A.K. Cerkno
X-ORIGINAL-URL:https://cmakcerkno.net
X-WR-CALDESC:Events for C.M.A.K. Cerkno
BEGIN:VTIMEZONE
TZID:Europe/Ljubljana
BEGIN:DAYLIGHT
TZOFFSETFROM:+0100
TZOFFSETTO:+0200
TZNAME:CEST
DTSTART:20240331T010000
END:DAYLIGHT
BEGIN:STANDARD
TZOFFSETFROM:+0200
TZOFFSETTO:+0100
TZNAME:CET
DTSTART:20241027T010000
END:STANDARD
END:VTIMEZONE
BEGIN:VEVENT
DTSTART;TZID=Europe/Ljubljana:20240721T193000
DTEND;TZID=Europe/Ljubljana:20240721T193000
DTSTAMP:20260420T194037
CREATED:20240628T133324Z
LAST-MODIFIED:20240628T133850Z
UID:5534-1721590200-1721590200@cmakcerkno.net
SUMMARY:Koncert: auto (krautrock\, surf\, garage)\, //LESS (noise punk)\, THE KRIPLESS (hardcore punk stoneRnR) - Festival "In Memoriam prof. Peter Hafner #15"
DESCRIPTION:Tovariši iz festivala “In Memoriam prof. Peter Hafner” od sredine do konca julija vabijo na res pester in raznolik program: od razstav\, med katerimi je tudi foto razstava našega nekdanjega predsednika Debelakau Mako\, do delavnic\, cirkusa\, poezije…Ter seveda obilice obilnih koncertnih večerov!  \n  \n\n\n\nEnega med njimi bomo v nedeljo\, 21. julija gostili tudi pri nas v Cerknem\, in sicer na dvorišču VCC. V goste prihajajo francoski hardkoraši LESS\, ljubljanski garage-(sauer)kraut rokerji AUTO\, ter domači punk-stoneRnR žagarji The Kripless!  \n  \n\n\n\nFB dogodek: Koncert: auto (krautrock\, surf\, garage)\, //LESS (noise punk)\, THE KRIPLESS (hardcore punk stoneRnR)  \n  \n\n\n\n\n\n\n\n\n\n\n\n𝗮𝘂𝘁𝗼 je zasedba\, ki jo sestavljajo zdaj že prekaljeni mački domače glasbene scene. Hej\, kakšen »auto« nastane\, če ga skonstruirajo in sestavijo bobnar Prismojenih profesorjev bluesa\, basist Martin Ramoveš Banda ter kitarist že pokojnih God damn it\, boys!!? Pravijo\, da gre za garažiran hibrid med kraut rockom in space surfom. Če vam uide (auto)bus\, sedite v auto.  \n  \n\n\n\nhttps://kaparecords.bandcamp.com/album/auto  \n  \n\n\n\nhttps://www.youtube.com/watch?v=a_UhurLzYEA  \n  \n\n\n\n//𝗟𝗘𝗦𝗦 je hrupna francoska trojka\, ki s svojim noise punkom bolj spominja na ameriški srednji zahod ali teksaške ravnice kot na zasnežene vrhove Alp. Kljub temu je filigranstvo prisotno in Less z ostrino in velikim obvladovanjem bičajo noise-rock z ultra-abrazivno ritmiko in žgočim vokalom. Dva basa\, en boben!   \n  \n\n\n\nhttps://lessmusic.bandcamp.com  \n  \n\nhttps://www.youtube.com/watch?v=0oBSRFpvId8  \n  \n\n\n\n𝗧𝗵𝗲 𝗞𝗿𝗶𝗽𝗹𝗲𝘀𝘀 je mednarodno pisana hardcore punk trojka\, ki rada zapluje v stoneRnR vode. Čeprav ustvarjajo na Zorinem podstrešju\, so zapriseženi underground in D.I.Υ. etiki. Ki j zej tu?! Ravne\, Porto\, Radenci!   \n  \n\n\n\nhttps://www.youtube.com/watch?v=BANBEEgRmvU  \n  \n\n\n\nVstopnine ni\, prostovoljni prispevki so.   \n  \n\n\n\nDogodek pripravljata Društvo Alternator in Cerkljanski mladinski alternativni klub (C.M.A.K).   \n  \n\n\n\n————————————–𝗙𝗲𝘀𝘁𝗶𝘃𝗮𝗹 𝗜𝗻 𝗠𝗲𝗺𝗼𝗿𝗶𝗮𝗺 𝗽𝗿𝗼𝗳. 𝗣𝗲𝘁𝗲𝗿 𝗛𝗮𝗳𝗻𝗲𝗿 #𝟭𝟱 19. 7. – 27. 7. 2024 Festival najvidneje podpirata Ministrstvo za kulturo RS in Zavod 973. Hafnerjev memorial je tudi del mednarodnega projekta FOCUS\, ki se osredotoča na manjša prizorišča in festivala v Sloveniji\, Avstriji\, Italiji in na Hrvaškem.
URL:https://cmakcerkno.net/event/koncert-auto-krautrock-surf-garage-less-noise-punk-the-kripless-hardcore-punk-stonernr-festival-in-memoriam-prof-peter-hafner-15/
LOCATION:Dvorišče pred VCC\, Bevkova ulica 22\, Cerkno\, 5282\, Slovenija
CATEGORIES:Festival,Gostujemo,Koncert
END:VEVENT
END:VCALENDAR