BEGIN:VCALENDAR
VERSION:2.0
PRODID:-//C.M.A.K. Cerkno - ECPv5.10.0//NONSGML v1.0//EN
CALSCALE:GREGORIAN
METHOD:PUBLISH
X-WR-CALNAME:C.M.A.K. Cerkno
X-ORIGINAL-URL:https://cmakcerkno.net
X-WR-CALDESC:Events for C.M.A.K. Cerkno
BEGIN:VTIMEZONE
TZID:Europe/Ljubljana
BEGIN:DAYLIGHT
TZOFFSETFROM:+0100
TZOFFSETTO:+0200
TZNAME:CEST
DTSTART:20220327T010000
END:DAYLIGHT
BEGIN:STANDARD
TZOFFSETFROM:+0200
TZOFFSETTO:+0100
TZNAME:CET
DTSTART:20221030T010000
END:STANDARD
END:VTIMEZONE
BEGIN:VEVENT
DTSTART;TZID=Europe/Ljubljana:20220311T203000
DTEND;TZID=Europe/Ljubljana:20220311T213000
DTSTAMP:20260421T001900
CREATED:20220224T195339Z
LAST-MODIFIED:20220224T195339Z
UID:4719-1647030600-1647034200@cmakcerkno.net
SUMMARY:Koncert: Arlo Zaria / 9. festival Deuje babe
DESCRIPTION:Petek\, 11. marec\, ob 20.30\nDruštvo upokojencev Cerkno (Močnikova ul. 8)\nKoncert\nArlo Zaria \n\nMlada glasbenica iz bližnjega Modreja je pred kratkim izdala svoj prvi kratkometražni album z naslovom Gemini. O svoji akustični\, z melanholijo prežeto glasbi pravi: “Sem Arlo Zaria\, prihajam iz okolice Tolmina\, sem pa tja pišem glasbo\, in predstavila se bom s svojim prvim projektom\, EP-jem Gemini. Za žanr vam žal ne znam povedat\, Gemini sam obstaja in je\, kar hoče bit. Spremlja me 30-letna kitara\, imenovana Cherry po komadu od Amy Winehouse.” \nPesem Gemini\nPesem One Hit\nArlo Zaria v živo na Radiu Študent\, 11. 1. 2022\nIntervju v oddaji 100 decibelov (RŠ) \nVstop prost\, prostovoljni prispevki dobrodošli. \nOrganizira Cmak v sodelovanju z Društvom upokojencev Cerkno. Podpora: Urad RS za mladino in Občina Cerkno.
URL:https://cmakcerkno.net/event/koncert-arlo-zaria-9-festival-deuje-babe/
LOCATION:Društvo upokojencev Cerkno\, Močnikova ulica 8
CATEGORIES:Deuje babe,Festival,Koncert
END:VEVENT
END:VCALENDAR