BEGIN:VCALENDAR
VERSION:2.0
PRODID:-//C.M.A.K. Cerkno - ECPv5.10.0//NONSGML v1.0//EN
CALSCALE:GREGORIAN
METHOD:PUBLISH
X-WR-CALNAME:C.M.A.K. Cerkno
X-ORIGINAL-URL:https://cmakcerkno.net
X-WR-CALDESC:Events for C.M.A.K. Cerkno
BEGIN:VTIMEZONE
TZID:Europe/Ljubljana
BEGIN:DAYLIGHT
TZOFFSETFROM:+0100
TZOFFSETTO:+0200
TZNAME:CEST
DTSTART:20210328T010000
END:DAYLIGHT
BEGIN:STANDARD
TZOFFSETFROM:+0200
TZOFFSETTO:+0100
TZNAME:CET
DTSTART:20211031T010000
END:STANDARD
END:VTIMEZONE
BEGIN:VEVENT
DTSTART;TZID=Europe/Ljubljana:20210219T190000
DTEND;TZID=Europe/Ljubljana:20210219T210000
DTSTAMP:20260421T052910
CREATED:20210212T144212Z
LAST-MODIFIED:20210212T144251Z
UID:4217-1613761200-1613768400@cmakcerkno.net
SUMMARY:Kolumbija - dežela raznolikosti / potopis / 24. obletnica C.M.A.K.
DESCRIPTION:Hola\, todo bien? \n\n\n\nV sklopu 24. obletnice delovanja C.M.A.K.-a se bomo odpravili tudi na drug konec sveta\, v temperamentno Kolumbijo.Kolumbija je bila prva država\, ki jo sta jo med svojim 7 mesečnim potovanjem po Južni Ameriki obiskala Tjaša in Or. Tja sta prišla čisto brez pričakovanj\, menila sta\, da bo en mesec dovolj za raziskovanje te temperamentne države. Kmalu sta ugotovila\, da temu ni niti približno tako in na koncu sta tam preživela dva meseca. \n\n\n\nZaljubila sta se v to čudovito državo in ljudi\, ki tam živijo. Pravita\, da so Kolumbijci eni najbolj prijaznih ljudi\, ki sta jih na svojih potovanjih srečala. Za Kolumbijo pa pravita\, da je živahna\, razburljiva in zelo raznolika. \n\n\n\nTjaša vas bo popeljala skozi kolonialna mesta\, karibsko obalo\, nacionalne parke\, plantaže kave\, puščavo\, obiskali pa boste tudi Izgubljeno mesto. Ali menite\, da ima Kolumbija okusno hrano? Tjašino mnenje lahko slišite na potopisu\, ki bo v petek 19.2.2021 ob 19:oo na našem FB in Youtube kanalu.
URL:https://cmakcerkno.net/event/kolumbija-dezela-raznolikosti-potopis-24-obletnica-c-m-a-k/
LOCATION:Svetovni splet
CATEGORIES:Predavanje
END:VEVENT
END:VCALENDAR