BEGIN:VCALENDAR
VERSION:2.0
PRODID:-//C.M.A.K. Cerkno - ECPv5.10.0//NONSGML v1.0//EN
CALSCALE:GREGORIAN
METHOD:PUBLISH
X-WR-CALNAME:C.M.A.K. Cerkno
X-ORIGINAL-URL:https://cmakcerkno.net
X-WR-CALDESC:Events for C.M.A.K. Cerkno
BEGIN:VTIMEZONE
TZID:Europe/Ljubljana
BEGIN:DAYLIGHT
TZOFFSETFROM:+0100
TZOFFSETTO:+0200
TZNAME:CEST
DTSTART:20230326T010000
END:DAYLIGHT
BEGIN:STANDARD
TZOFFSETFROM:+0200
TZOFFSETTO:+0100
TZNAME:CET
DTSTART:20231029T010000
END:STANDARD
END:VTIMEZONE
BEGIN:VEVENT
DTSTART;TZID=Europe/Ljubljana:20230915T180000
DTEND;TZID=Europe/Ljubljana:20231015T200000
DTSTAMP:20260422T122900
CREATED:20230909T075217Z
LAST-MODIFIED:20231009T081530Z
UID:5283-1694800800-1697400000@cmakcerkno.net
SUMMARY:Kolaž kot rekonstrukcija - Klementina Zavšek // Mladi v Stopnišču
DESCRIPTION:Vabljeni na novo razstavo v galeriji Stopnišče! Z njo bomo otvorili letošnje\, 25. CMAKAJNE. Odprta pa bo do 15. oktobra. \nFotografije z otvoritve si lahko ogledate NA TEJ POVEZAVI. \n \nKlementina Zavšek je 23-letna študentka magistrskega programa Poučevanje\, smer Likovna pedagogika na Pedagoški fakulteti v Ljubljani\, kamor se je vpisala po opravljenem dodiplomskem študiju Likovne pedagogike. Do sedaj je sodelovala na številnih skupinskih razstavah po več slovenskih krajih\, kjer je k celotni postavitvi prispevala svoje risbe\, slike in grafike.\nNa razstavi v Cerknem se bo predstavila s serijo kolažev\, s katerimi se je začela aktivneje ukvarjati leta 2021. \nO svojem delu pravi takole: \nPovezovanje\, prepletanje in združevanje različnih barvnih papirjev\, tiskovin\, blaga spada v polje kolaža\, ki me je začelo podrobneje zanimati v letu 2021.\nTakrat sem se začela s tem spoznavati preko lepljenja najrazličnejših materialov\, ki so s tem zaživeli v čisto novi vlogi. Pričeli so predstavljati kos oblačila ali sestavni del obraza in v smislu človekove percepcije pomeniti nekaj čisto drugačnega ter posebnega. Dodeljen jim je bil nov pomen. Prav tovrstni razmislek me je vodil po poti eksperimentiranja s kolažiranjem\, pri čemer sem sčasoma povezovanje različnih materialov z lepljenjem nadomestila s sponkami. \nPrav slednje predstavlja moj lasten prispevek k umetnosti kolaža in se povezuje z idejo njegovega ustvarjanja\, ki temelji na nenehnem premišljevanju ter spreminjanju želene kompozicije.\nMoji kolaži so zato tudi v svoji »končni« verziji pravzaprav v delavni fazi\, saj bi vsakršen premik sponk in posledičen preobrat kompozicije dal čisto nove učinke ter drugače nagovoril gledalce. Če so nekateri kolaži bolj abstraktne narave in sporočilni\, so drugi v svojem motivu\, ki povezuje kolaž z risbo\, bolj eksaktni. Prav tako so eni vezani na podlago\, medtem ko pa ostali likovno uspevajo brez nje
URL:https://cmakcerkno.net/event/kolaz-kot-rekonstrukcija-klementina-zavsek-mladi-v-stopniscu/
LOCATION:Galerija Stopnišče\, Bevkova 22\, Cerkno\, 5282\, Slovenija
CATEGORIES:Festival,Razstava
END:VEVENT
END:VCALENDAR