BEGIN:VCALENDAR
VERSION:2.0
PRODID:-//C.M.A.K. Cerkno - ECPv5.10.0//NONSGML v1.0//EN
CALSCALE:GREGORIAN
METHOD:PUBLISH
X-WR-CALNAME:C.M.A.K. Cerkno
X-ORIGINAL-URL:https://cmakcerkno.net
X-WR-CALDESC:Events for C.M.A.K. Cerkno
BEGIN:VTIMEZONE
TZID:Europe/Ljubljana
BEGIN:DAYLIGHT
TZOFFSETFROM:+0100
TZOFFSETTO:+0200
TZNAME:CEST
DTSTART:20170326T010000
END:DAYLIGHT
BEGIN:STANDARD
TZOFFSETFROM:+0200
TZOFFSETTO:+0100
TZNAME:CET
DTSTART:20171029T010000
END:STANDARD
END:VTIMEZONE
BEGIN:VEVENT
DTSTART;TZID=Europe/Ljubljana:20170506T210000
DTEND;TZID=Europe/Ljubljana:20170506T210000
DTSTAMP:20260420T212611
CREATED:20170502T103924Z
LAST-MODIFIED:20170502T104139Z
UID:2311-1494104400-1494104400@cmakcerkno.net
SUMMARY:Koala Voice | Memorial 2017 - Cerkno
DESCRIPTION:Če so pred zmago na prvi ediciji natečaja dijaških bandov Špil liga skupino KOALA VOICE poznali le redki\, jih danes poznajo vsi spremljevalci glasbene scene v Sloveniji. Štiričlanska zasedba je po uvrstitvi na Klubski maraton in izdaji prvenca Kangaroo’s a Neighbour s svojo zasvojajočo mešanico rocka\, popa\, disca\, punka ter neustavljivo odrsko prezenco pričela pohod po odrih tako doma kot v tujini. V zadnjih dveh letih so tako koncerte odigrali vse od Rusije do Liverpoola\, pa vse od Nizozemske do Bratislave in Skopja. Britanski časopis DIY pa jih je razglasil za eno izmed petih najboljših odkritij konference Eurosonic leta 2016. Manca\, Domen\, Tilen in Miha trenutno zaključujejo snemanje drugega studijskega albuma\, kjer je za produkcijo skrbel Danton Supple. \nSplet: \nwww.koalavoice.com\nhttps://www.facebook.com/VoiceKoala/\nhttps://itunes.apple.com/us/artist/koala-voice/id965171808 \nVideo: \nhttps://www.youtube.com/watch?v=QscWr0JxWrU\nhttps://www.youtube.com/watch?v=gGaCXYBm3Fk \nLive 360: \nhttps://www.youtube.com/watch?v=dQOllvbWqVY&t=1s \nLive: \nhttps://www.youtube.com/watch?v=-Ka6q67Xvbw\nhttps://www.youtube.com/watch?v=dj2dvdbXqq0\nhttps://www.youtube.com/watch?v=QE8tO6H1bTQ \n  \nVabljeni-e!
URL:https://cmakcerkno.net/event/koala-voice-memorial-2017-cerkno/
LOCATION:C.M.A.K. Cerkno\, Bevkova ulica 22\, Cerkno\, 5282\, Slovenija
CATEGORIES:CMAKoncert
END:VEVENT
END:VCALENDAR