BEGIN:VCALENDAR
VERSION:2.0
PRODID:-//C.M.A.K. Cerkno - ECPv5.10.0//NONSGML v1.0//EN
CALSCALE:GREGORIAN
METHOD:PUBLISH
X-WR-CALNAME:C.M.A.K. Cerkno
X-ORIGINAL-URL:https://cmakcerkno.net
X-WR-CALDESC:Events for C.M.A.K. Cerkno
BEGIN:VTIMEZONE
TZID:Europe/Ljubljana
BEGIN:DAYLIGHT
TZOFFSETFROM:+0100
TZOFFSETTO:+0200
TZNAME:CEST
DTSTART:20170326T010000
END:DAYLIGHT
BEGIN:STANDARD
TZOFFSETFROM:+0200
TZOFFSETTO:+0100
TZNAME:CET
DTSTART:20171029T010000
END:STANDARD
END:VTIMEZONE
BEGIN:VEVENT
DTSTART;TZID=Europe/Ljubljana:20171020T210000
DTEND;TZID=Europe/Ljubljana:20171020T210000
DTSTAMP:20260419T233130
CREATED:20171011T171726Z
LAST-MODIFIED:20171011T171758Z
UID:2489-1508533200-1508533200@cmakcerkno.net
SUMMARY:KM RŠ: Nesesari Kakalulu / Styröfoam
DESCRIPTION:Na Klubskem Maratonu Radio Študent 89\,3 MHz v MC C.M.A.K. Cerkno se bosta 20. oktobra predstavili zasedbi Nesesari Kakalulu in Styröfoam. \nNesesari Kakalulu\nz dušo in ritmom zamazani čarterski let na relaciji Nova Gorica – Lagos\nPrimorska emanacija najžlahtnejšega zvoka podsaharskih sedemdesetih pod okriljem Kutijevega duha se poigrava z evropsko dediščino sproščenega jazza in njegovih improviziranih odvodov. Človeškemu\, prečloveškemu 9-glavemu stroju transa in toplega drnca se pridružuje še 8-članski ženski zbor\, ki s svojo umeščenostjo pač zašpili\, kar je v takšni množici muzičistov sploh še mogoče zašpiliti. \nStyröfoam\nmoška figa in kitarski duo\, neobremenjen z udobjem preprostih pesmi\nHecne kombinatorike v poskusih pesmi\, ki k nam prihajajo iz zaprte družbe dveh strunarjev in mašin. Zgodbena plat komadov je tu zlahka primerljiva s tudi najbolj utrganimi oblikami bolj inteligentnih električnih muzik. Vse skupaj pa duo začini z dobro mero samoironije\, kar je dober znak za tiste\, ki se nekoliko zvitejših muzik ne naveličate tako zlahka\, predvsem pa jih radi gledate skozi zorenje. \nveč o maratonu na:\nhttp://radiostudent.si/klubskimaraton/
URL:https://cmakcerkno.net/event/km-rs-nesesari-kakalulu-styrofoam/
LOCATION:C.M.A.K. Cerkno\, Bevkova ulica 22\, Cerkno\, 5282\, Slovenija
CATEGORIES:Gostujemo
END:VEVENT
END:VCALENDAR