BEGIN:VCALENDAR
VERSION:2.0
PRODID:-//C.M.A.K. Cerkno - ECPv5.10.0//NONSGML v1.0//EN
CALSCALE:GREGORIAN
METHOD:PUBLISH
X-WR-CALNAME:C.M.A.K. Cerkno
X-ORIGINAL-URL:https://cmakcerkno.net
X-WR-CALDESC:Events for C.M.A.K. Cerkno
BEGIN:VTIMEZONE
TZID:Europe/Ljubljana
BEGIN:DAYLIGHT
TZOFFSETFROM:+0100
TZOFFSETTO:+0200
TZNAME:CEST
DTSTART:20140330T010000
END:DAYLIGHT
BEGIN:STANDARD
TZOFFSETFROM:+0200
TZOFFSETTO:+0100
TZNAME:CET
DTSTART:20141026T010000
END:STANDARD
END:VTIMEZONE
BEGIN:VEVENT
DTSTART;TZID=Europe/Ljubljana:20141003T220000
DTEND;TZID=Europe/Ljubljana:20141003T235500
DTSTAMP:20260420T151537
CREATED:20140821T180628Z
LAST-MODIFIED:20140930T164947Z
UID:253-1412373600-1412380500@cmakcerkno.net
SUMMARY:Klubski maraton RŠ: Koala Voice in 12
DESCRIPTION:KOALA VOICE \n \nZasavski omladinci Koala Voice so se ob razvejanem glasbenem miljeju odločili\, da svojo lastno muziko suvereno in skoraj prav nesramno postavijo na popoidno križišče med rockom\, discom in trendovskimi indie strujanji. V tem zlahka klišejskem glasbenem okolju jim uspeva ustvarjati glasbo\, ki je prepoznavno njihova in kot taka nabrita ter mladostniško zaletava\, prešpikana z nekaj poletne romantike in obilico hitoidnih rifov. Njihove ambicije so očitne\, prav tako pa tudi talent za njihovo realizacijo. Zmaga na Špil ligi 2014 ter uvrstitev na letošnji Klubski maraton se zdita predvidljiva pot zasedbe\, katere refrene si skorajda sumljivo hitro pričnete mrmrati tudi sami. \nČlani:\nManca Trampuš – vokal\, kitara\nDomen Don Holc – kitara\nMiha Prašnikar – bobni\, back vokal\nTilen Prašnikar – bas\n\nKontakt/Povezave:\nemail: voicekoala@gmail.com\nhttps://www.facebook.com/VoiceKoala\nhttps://twitter.com/KoalaVoice\n  \n\n\n12\n\nGibberish Jubilee Vol. 1: Dream Baton by 12Sodobni trubadur iz domače spalnice\, ki z minimalnimi sredstvi ustvarja hipnagogično konfuzijo sodobnih folkerskih pristopov\, potopljenih v globoke plasti reverba in ostalih zvočnih efektov. Zamegljena atmosferičnost njegove glasbe na trenutke razkrije talent za pisanje sladkobnih pop pesmi\, ki pa se hitro razblini v bolj abstraktnih zvočnih krajinah. Razpuščeno pesemsko ogrodje njegovih kompozicij se zdi prepuščeno trenutnemu navdihu avtorja\, gledano od daleč\, skozi mavrična psihedelična očala\, pa ustvarja prepoznavno zvočno podobo mutirane pop glasbe v izraziti lo-fi maniri. Nova čudna Slovenija se končno odpravlja na osvajalski pohod. \nČlani:\nMiha Robida – kitara\, vokal\, efekti\n\nKontakt/Povezave:\nemail: the12thuniverse@gmail.com\nhttps://twitter.com/bruschkip\nhttps://www.facebook.com/pages/12/349225548525983
URL:https://cmakcerkno.net/event/klubski-maraton-rs/
LOCATION:C.M.A.K. Cerkno\, Bevkova ulica 22\, Cerkno\, 5282\, Slovenija
CATEGORIES:Koncert
ATTACH;FMTTYPE=image/png:https://cmakcerkno.net/wp-content/uploads/2014/09/FB_cover_4_786x295-.png
END:VEVENT
END:VCALENDAR