BEGIN:VCALENDAR
VERSION:2.0
PRODID:-//C.M.A.K. Cerkno - ECPv5.10.0//NONSGML v1.0//EN
CALSCALE:GREGORIAN
METHOD:PUBLISH
X-WR-CALNAME:C.M.A.K. Cerkno
X-ORIGINAL-URL:https://cmakcerkno.net
X-WR-CALDESC:Events for C.M.A.K. Cerkno
BEGIN:VTIMEZONE
TZID:Europe/Ljubljana
BEGIN:DAYLIGHT
TZOFFSETFROM:+0100
TZOFFSETTO:+0200
TZNAME:CEST
DTSTART:20220327T010000
END:DAYLIGHT
BEGIN:STANDARD
TZOFFSETFROM:+0200
TZOFFSETTO:+0100
TZNAME:CET
DTSTART:20221030T010000
END:STANDARD
END:VTIMEZONE
BEGIN:VEVENT
DTSTART;TZID=Europe/Ljubljana:20220730T200000
DTEND;TZID=Europe/Ljubljana:20220730T200000
DTSTAMP:20260421T004529
CREATED:20220715T073900Z
LAST-MODIFIED:20220726T074415Z
UID:4856-1659211200-1659211200@cmakcerkno.net
SUMMARY:Klubski maraton RŠ 22 - Masaž in LSDS Collective
DESCRIPTION:Klubski maraton Radia Študent\, najglasnejša in najvztrajnejša koncertna ekspedicija po domačih tleh\, letos že dvaindvajsetič krmari po domači koncertni sceni. \nKlubski maraton se je kot natečaj z najdaljšo tradicijo pri nas uspel uveljaviti kot najpomembnejši generator nove glasbene ustvarjalnosti. Že dvaindvajseto leto zapored išče\, izkopava in servira presežke najnovejše domače glasbene produkcije. Kot izjemen in zanesljiv vir vzhajajočih imen\, ki v nadaljnjih letih v velikem številu zaznamujejo milje mlade slovenske klubske in festivalske alternative\, je uveljavljena institucija\, ki ob ključni medijski podpori predstavlja optimalno izhodišče za prodor najzanimivejših novih glasbenih sil na slovensko alternativno glasbeno sceno. Glavno poslanstvo Klubskega maratona sta pronicljivo izpostavljanje še neuveljavljenih glasbenih ustvarjalcev ter ključna prva medijska in infrastrukturna podpora njihovih kreativnih podvigov ter potencialov za nadaljnji glasbeni razvoj.\nhttps://radiostudent.si/klubskimaraton \nMASAŽ\nPopovci\, ki jim brez indieja živeti ni\nPopovci\, ki jim brez indieja živeti ni\, ustvarjajo zvočne črvičke\, lačne spevnih melodij. Čeprav se ti bliskovito zarijejo v misli\, je življenje z njimi simbiotično\, iz njega pa vznika pozornost vzbujajoč groove. Inovativno naravnani v sredinske poslušalske frekvence spreobračajo staro šolo slovenskega mainstreama\, a za kulturne ločnice jim ni preveč mar. \nMasaž so Aleksander Cavazza\, Maks Rozman\, Sinja Smokvina in Timotej Poznič. \nPovezave:\nFacebook: https://www.facebook.com/masazfb\nInstagram: https://www.instagram.com/masaz_gram/ \nLSDS Collective\nModerna glasbena stranka\nStrokovno prepoznana Stranka slovenske popularne kulture zastopa norčavi trap\, zavedni hip hop\, elektroniko\, narodnozabavno glasbo in druge\, za svežo generacijo primerno kulturno apropriirane zvrsti. Zavestne pavlihe morda niso zrasli z učbenikom iz 90. let\, vendar pišejo svoj manifest. \nLSDS Collective so Dan Grabnar (Dansky)\, Filip Pavšek (Taurus)\, Jaša Kljun (NoKiltr)\, Jonatan Hudnik\, Makar Mitrović\, Miha Rajterič in Peter Pongrac (Male Ponco). \nPovezave:\nFacebook: https://www.facebook.com/lsdskolektiv/\nInstagram: https://www.instagram.com/lsdscollective/
URL:https://cmakcerkno.net/event/klubski-maraton-rs-22-masaz-in-lsds-collective/
LOCATION:Dvorišče pred VCC\, Bevkova ulica 22\, Cerkno\, 5282\, Slovenija
CATEGORIES:Gostujemo,Koncert
ATTACH;FMTTYPE=image/png:https://cmakcerkno.net/wp-content/uploads/2022/07/KM22_dogodki_FB_cover-Cerkno.png
END:VEVENT
END:VCALENDAR