BEGIN:VCALENDAR
VERSION:2.0
PRODID:-//C.M.A.K. Cerkno - ECPv5.10.0//NONSGML v1.0//EN
CALSCALE:GREGORIAN
METHOD:PUBLISH
X-WR-CALNAME:C.M.A.K. Cerkno
X-ORIGINAL-URL:https://cmakcerkno.net
X-WR-CALDESC:Events for C.M.A.K. Cerkno
BEGIN:VTIMEZONE
TZID:Europe/Ljubljana
BEGIN:DAYLIGHT
TZOFFSETFROM:+0100
TZOFFSETTO:+0200
TZNAME:CEST
DTSTART:20210328T010000
END:DAYLIGHT
BEGIN:STANDARD
TZOFFSETFROM:+0200
TZOFFSETTO:+0100
TZNAME:CET
DTSTART:20211031T010000
END:STANDARD
END:VTIMEZONE
BEGIN:VEVENT
DTSTART;TZID=Europe/Ljubljana:20210806T190000
DTEND;TZID=Europe/Ljubljana:20210806T233000
DTSTAMP:20260422T045654
CREATED:20210728T081730Z
LAST-MODIFIED:20210815T081751Z
UID:4374-1628276400-1628292600@cmakcerkno.net
SUMMARY:Klubski Maraton Radia Študent 21: Matthias von Stumberger und seine Jugend\, Opran možgan\, Cogito ergo Sex
DESCRIPTION:Klubski maraton Radia Študent vsako leto znova išče\, izkoplje in razkrije presežke najnovejše domače glasbene produkcije. Tokrat že poleti! 6. avgusta se bo karavana ustavila tudi v Cerknem\, in sicer pred Večnamenskim centrom.\n\nNastopili bodo:\n-Matthias von Stumberger und seine Jugend: Surferska garda koroškega barona. Sončna očala in poln prtljažnik sta obvezna\, medtem ko vas fantje furajo po razbeljenih kalifornijskih cestah.\n-Opran možgan: v garažah kaljena umazana hardcore ekipa\, ki odločno nasprotuje vsem\, ki trdijo\, da je pank mrtev.\n– Cogito ergo Sex: Sapioseksualni postpunk experimentalni dvojec iz Ljubljane. V izolaciji vznikli projekt\, ki se utaplja v analognih sintetizatorjih in skozi prvi\, drugi in tretji lovi svoj lastni novi val.\n\nVstopnine ni!\nObiskovalce prosimo\, da se dosledno držite navodil organizatorjev in upoštevate ukrepe za zajezitev širjenja okužb.
URL:https://cmakcerkno.net/event/klubski-maraton-radia-student-21-matthias-von-stumberger-und-seine-jugend-opran-mozgan-cogito-ergo-sex/
LOCATION:Dvorišče pred VCC\, Bevkova ulica 22\, Cerkno\, 5282\, Slovenija
CATEGORIES:Gostujemo
END:VEVENT
END:VCALENDAR