BEGIN:VCALENDAR
VERSION:2.0
PRODID:-//C.M.A.K. Cerkno - ECPv5.10.0//NONSGML v1.0//EN
CALSCALE:GREGORIAN
METHOD:PUBLISH
X-WR-CALNAME:C.M.A.K. Cerkno
X-ORIGINAL-URL:https://cmakcerkno.net
X-WR-CALDESC:Events for C.M.A.K. Cerkno
BEGIN:VTIMEZONE
TZID:Europe/Ljubljana
BEGIN:DAYLIGHT
TZOFFSETFROM:+0100
TZOFFSETTO:+0200
TZNAME:CEST
DTSTART:20230326T010000
END:DAYLIGHT
BEGIN:STANDARD
TZOFFSETFROM:+0200
TZOFFSETTO:+0100
TZNAME:CET
DTSTART:20231029T010000
END:STANDARD
END:VTIMEZONE
BEGIN:VEVENT
DTSTART;TZID=Europe/Ljubljana:20231021T200000
DTEND;TZID=Europe/Ljubljana:20231021T200000
DTSTAMP:20260422T123047
CREATED:20231007T082239Z
LAST-MODIFIED:20231009T084539Z
UID:5295-1697918400-1697918400@cmakcerkno.net
SUMMARY:Klubski maraton Radia Študent 2023: Jolted + Tachyon
DESCRIPTION:V Cerkno prihaja Klubski maraton RŠ s frišnim vetrcem slovenske glasbe. \nJolted | sunkoviti težkokategorniki\nJolted je ljubljanski tris vokala\, basa in bobnov\, ki s sunkovitimi rifi navigira med žanri sludgea\, noisa in hardcora. Vnema ušesa\, trese drobovja in sproža neusmiljen kaotični vrtinec surove energije in zvočnega pekla\, ki raztrešči misli in pritiska ob rob neizprosne glasbene izkušnje. \nAleksander Jovanović: vokal\nJan Franko: bas\nMatija Dolenčič: bobni \nStudijski koncert KM23: \nOmrežja:\nhttps://www.facebook.com/Joltedband/\nhttps://www.instagram.com/joltedband/\nhttps://jolted.bandcamp.com/music \nTachyon | hipotetični elektroničar\nTachyon se kot izmuzljivi delec počasi izvija iz začrtanih tlorisov in električne pokrajine plete preprosto\, obenem pa iskreno in brezkompromisno. Zvoke poplesujoče tke v zapeljivo mehak himeričen svet\, ki posrka v nerazkrite kotičke in prečka meje pravljičnega. \nJernej Grmek: laptop\, mixer\, efekti \nStudijski koncert KM23: \nOmrežja:\nhttps://sop-records.org/?page_id=4019\nhttps://www.youtube.com/@jernejgrmek_music3087/\nhttps://www.instagram.com/jernej_grmek_/\n***\nVeč informacij o projektu Klubski maraton na radiostudent.si/klubskimaraton
URL:https://cmakcerkno.net/event/klubski-maraton-radia-student-2023-jolted-tachyon/
LOCATION:MC CMAK Cerkno\, Predavalnica VCC\, Bevkova 22
CATEGORIES:Gostujemo,Koncert
ATTACH;FMTTYPE=image/jpeg:https://cmakcerkno.net/wp-content/uploads/2023/10/KM23.jpg
END:VEVENT
END:VCALENDAR