BEGIN:VCALENDAR
VERSION:2.0
PRODID:-//C.M.A.K. Cerkno - ECPv5.10.0//NONSGML v1.0//EN
CALSCALE:GREGORIAN
METHOD:PUBLISH
X-WR-CALNAME:C.M.A.K. Cerkno
X-ORIGINAL-URL:https://cmakcerkno.net
X-WR-CALDESC:Events for C.M.A.K. Cerkno
BEGIN:VTIMEZONE
TZID:Europe/Ljubljana
BEGIN:DAYLIGHT
TZOFFSETFROM:+0100
TZOFFSETTO:+0200
TZNAME:CEST
DTSTART:20160327T010000
END:DAYLIGHT
BEGIN:STANDARD
TZOFFSETFROM:+0200
TZOFFSETTO:+0100
TZNAME:CET
DTSTART:20161030T010000
END:STANDARD
END:VTIMEZONE
BEGIN:VEVENT
DTSTART;TZID=Europe/Ljubljana:20161014T213000
DTEND;TZID=Europe/Ljubljana:20161014T235500
DTSTAMP:20260420T204113
CREATED:20161004T140629Z
LAST-MODIFIED:20161011T152438Z
UID:1990-1476480600-1476489300@cmakcerkno.net
SUMMARY:Klubski maraton // NeoPogo in Memowu
DESCRIPTION:NeoPogorazsrediščena avdiovizualna impro-elektronska trojkaRazsrediščena troglava avdiovizualna formacija\, zaprisežena odprtokodnemu\, prostoimproviziranemu ustvarjanju\, svoj glasbeni izraz fluidno prilagaja prostoru in času. Analogno s prizoriščno tipskimi instalacijami se njihove abstraktne\, a vendar melodične IDM-ovske zvočne krajine spontano vpenjajo v neregularne ritmične strukture in tako njihovemu aktu omogočajo razvoj ter nadgrajevanje skozi sam performans. Vzporedno z njihovo zvočno arhitekturo pa nastajajo tudi ilustrirane animacije\, ki z interpretacijo tretjega člana doprinašajo k celoviti čutno-estetski izkušnji. Pridružite se jim na metažanrskem neopogo plesu.Člani:Jan Pogorelec – synthNeo Glušič – beat\nYtbndxkj – vizualije \nPovezave:\nsoundcloud.com/neopogo\nwww.youtube.com/channel/UC6UEHgLjU_cxpc8SzaEcjhw \nMemowu\nprestolnica in koketiranje s sodobno elektronsko pesmijo\nZ vokalnim eskapizmom nove ljubljanske izgubljenosti začinjena bera žmohtnih beatov dvojca Memowu se nevarno ziblje na izmišljenem robu\, ki seka polja popularnih in alternativnih glasb. Upočasnjena čutnost\, ujeta v vse večjo hiperrealnost osnovnih človeških odnosov\, na ramenih elektronskih velikanov iz nekega pozabljenega časa zalaga poslušalca s toplo nesmiselnostjo življenja. \nČlani:\nBrina Vidic – vokal\nSai Pan – instrumentali \nKontakti/Povezave:\nfacebook.com/memowu.music/\nsoundcloud.com/memowu \nKlubski maraton Radia Študent vsako leto znova išče\, najde in promovira najnovejše presežke domače alternativne glasbene produkcije. Glavno poslanstvo Klubskega maratona je pronicljivo izpostavljanje še neuveljavljenih glasbenih ustvarjalcev in silovita podpora njihovim kreativnim talentom ter ambicijam za nadaljnji glasbeni razvoj. \nKlubski maraton – najdaljša in najglasnejša glasbena odprava na domačih tleh se letos že šestnajstič podaja višje od zvezd.
URL:https://cmakcerkno.net/event/klubski-maraton-neopogo-in-memowu/
ATTACH;FMTTYPE=image/jpeg:https://cmakcerkno.net/wp-content/uploads/2016/10/KM16_FB_klub_Cerkno.jpg
END:VEVENT
END:VCALENDAR