BEGIN:VCALENDAR
VERSION:2.0
PRODID:-//C.M.A.K. Cerkno - ECPv5.10.0//NONSGML v1.0//EN
CALSCALE:GREGORIAN
METHOD:PUBLISH
X-WR-CALNAME:C.M.A.K. Cerkno
X-ORIGINAL-URL:https://cmakcerkno.net
X-WR-CALDESC:Events for C.M.A.K. Cerkno
BEGIN:VTIMEZONE
TZID:Europe/Ljubljana
BEGIN:DAYLIGHT
TZOFFSETFROM:+0100
TZOFFSETTO:+0200
TZNAME:CEST
DTSTART:20200329T010000
END:DAYLIGHT
BEGIN:STANDARD
TZOFFSETFROM:+0200
TZOFFSETTO:+0100
TZNAME:CET
DTSTART:20201025T010000
END:STANDARD
END:VTIMEZONE
BEGIN:VEVENT
DTSTART;TZID=Europe/Ljubljana:20200905T190000
DTEND;TZID=Europe/Ljubljana:20200905T230000
DTSTAMP:20260420T152537
CREATED:20200806T135558Z
LAST-MODIFIED:20200904T092622Z
UID:3939-1599332400-1599346800@cmakcerkno.net
SUMMARY:Klubski Maraton 2020
DESCRIPTION:Nastopile bodo zasedbe: 3:rma\, LELEE in Spiral Mind \nGlavno poslanstvo Klubskega maratona je pronicljivo izpostavljanje še neuveljavljenih glasbenih ustvarjalcev ter ključna prva medijska in infrastrukturna podpora njihovim kreativnim podvigom ter potencialom za nadaljnji glasbeni razvoj. \n\n\n\nKot vsako leto se bo tudi tokrat pri nas ustavila najglasnejša karavana izbranih glasbenikov. \n\n\n\n►3:rma ženski duet je na papirju preprosta dvojina kitare in vokala\, a takšna\, ki v svoji jasni kantavtorski obliki živi v sivem polju razlitega črnila in le nastavlja ogledalo človeškim antagonizmom. Boljši polovici ne iščeta popolnosti\, prej v poetične osnove vpleteta vsakdanji mikrokozmos\, ki ga s trmo destilirata v sladko strupeni napoj. \n\n\n\nzasedba: Urška Supej in Maša But \n\n\n\nIG Maša: https://www.instagram.com/butmasa4/ IG Urška: https://www.instagram.com/urska.supej/ https://urskasupej.bandcamp.com/ \n\n\n\n►LELEE Svetski garažni trio iz radija kile kilometrov \n\n\n\nPritepenka in pritepenca iz prepišnih garaž širše regije nas vračajo v tisti trenutek zgodovine\, ko je bil punk še pop. Morda tudi zasanjano\, a vselej nemirno\, z vztrajnimi brcami v rit apatiji. S svojim trdoživim\, tovariškim lo-fi DIY vzklikom so lahko in bodo otroci betonskih igrišč\, ki družijo vse iz sivih naselij bivše skupne države. \n\n\n\nzasedba: Jelena Rusjan\, Damjan Manevski in Jan Kmet \n\n\n\nFB: https://www.facebook.com/leleeband IG: @leleeband https://lelee.bandcamp.com/ \n\n\n\n►SPIRAL MIND Elektro bendovski prosti pad z Obale \n\n\n\nTopografije notranjega sveta Manuela Brajnika\, v katerem glasbena flora in favna brstita na transžanrski povrhnjici hip hopa in psihedeličnih kitar\, razmočenih z dežjem iz internetnih oblakov\, so podlegle virusnim mutacijam žive zasedbe\, ki med analognim in digitalnim v preprostem loku prosto pada in se razvija v ekstra začinjen zvočni trip. \n\n\n\nzasedba Manuel Brajnik\, Rok Babič\, Gaj Bostič \n\n\n\nFB: https://www.facebook.com/spiral.mind.official IG: spiral.mind https://spiral-mind.bandcamp.com/ https://soundcloud.com/spiral_mind
URL:https://cmakcerkno.net/event/klubski-maraton-2020/
LOCATION:Dvorišče pred VCC\, Bevkova ulica 22\, Cerkno\, 5282\, Slovenija
CATEGORIES:Gostujemo
ATTACH;FMTTYPE=image/jpeg:https://cmakcerkno.net/wp-content/uploads/2020/09/KMRS.jpg
END:VEVENT
END:VCALENDAR