BEGIN:VCALENDAR
VERSION:2.0
PRODID:-//C.M.A.K. Cerkno - ECPv5.10.0//NONSGML v1.0//EN
CALSCALE:GREGORIAN
METHOD:PUBLISH
X-WR-CALNAME:C.M.A.K. Cerkno
X-ORIGINAL-URL:https://cmakcerkno.net
X-WR-CALDESC:Events for C.M.A.K. Cerkno
BEGIN:VTIMEZONE
TZID:Europe/Ljubljana
BEGIN:DAYLIGHT
TZOFFSETFROM:+0100
TZOFFSETTO:+0200
TZNAME:CEST
DTSTART:20150329T010000
END:DAYLIGHT
BEGIN:STANDARD
TZOFFSETFROM:+0200
TZOFFSETTO:+0100
TZNAME:CET
DTSTART:20151025T010000
END:STANDARD
END:VTIMEZONE
BEGIN:VEVENT
DTSTART;TZID=Europe/Ljubljana:20151002T220000
DTEND;TZID=Europe/Ljubljana:20151002T235500
DTSTAMP:20260421T071231
CREATED:20150713T152537Z
LAST-MODIFIED:20150927T134835Z
UID:1261-1443823200-1443830100@cmakcerkno.net
SUMMARY:Klubski maraton 2015
DESCRIPTION:Klubski maraton Radia Študent je najpomembnejši generator nove glasbene ustvarjalnosti v Sloveniji\, ki s svojim utečenim programom dela odkriva\, spodbuja in promovira nove kreativne presežke domače alternativne glasbene produkcije. Je izjemno uveljavljena oblika predstavljanja nove glasbene produkcije\, ki ob intenzivni medijski podpori (programa Radia Študent\, najav drugih medijev in obširne promocije) postavlja idealno platformo za nadaljnji razvoj vzhajajočih glasbenih ustvarjalcev. Vedno pogosteje pa Klubski maraton daje smernice tudi organizatorjem poletnih alternativnih glasbenih festivalov\, ki že v istem letu vabijo izbrane maratonce na svoje festivale. Bistvo Klubskega maratona je\, da omogoči prodor še neuveljavljenim alternativnim glasbenim skupinam\, ki s kreativnostjo\, svežino in izvirnostjo izkazujejo jasne obete in ambicije za nadaljnji ustvarjalni razvoj.\n \nLetos že petnajstič tečemo na dolge proge v najdaljši in najglasnejši glasbeni karavani na slovenskih tleh. \nMeduzaleM\nnepredvidljiva metalodelična župa s Primorske \nNa burji\, teranu in brinjevcu vzgajana godeča troglava\, šesteroroka in mnogorifovska ter eksperimentom naklonjena himera\, ki jo je po domači grudi ponesel veter\, ki se ne obrača za žanri\, pozornostjo in ugajanjem. Četudi je jasno\, da trojica posega po trdih matematičnih rifih z visoko letečim vokalom\, se v skupnem jeziku spopada z izzivi v zvočenju\, družbeno kritiko in puhlostjo današnjega dne ter s tem premika um in telo. Vsekakor teran z okusom današnjega časa. \nČlani:\nMatjaž Karlovčec – bas\, vokal\nRok Soczka Mandac – kitara\, vokal\nBlaž Kocina – bobni\, tolkala \nPovezave:\nhttp://www.muzikobala.com/meduzalem\nhttps://www.facebook.com/pages/MeduzaleM/1422561388014972\nhttps://meduzalem.bandcamp.com/\nhttps://www.youtube.com/watch?v=LlFE7nVJPUM \n\nnevemnevem\nkonstrukt besede in zvoka od vsepovsod \nŠestglava nojzerska pošast z besednim kolovodjo Kobanom in preprostim imenom nevemnevem razpira polje govorjene besede\, težkih kitarskih rifov in neofolkovskega žvrgolenja. Iz ljubljanskega alternativnega glasbeno-literarnega bazena se bend kot hobotnica razširja proti poljem družbene akcije – skozi pesniško navdahnjena besedila\, z glasbeno surovostjo in razpršenostjo ter kakofonijo zvočnega materiala pa predstavlja svojevrstno glasbeno burlesko\, ki z refleksijo videnega in samorefleksijo izrečenega suvereno hara po opustošeni ljubljanski kulturnoglasbeni krajini. \nČlani:\nStaš Vrenko – klaviature\, računalnik\, efekti\nMartin Ukmar – klarinet\, trobenta\, piščali\, električni boben\, efekti\nBlaž Božič – predelana električna kitara\, efekti\nSamo Pavlica Linč – bobni\nJan Pogorelec – bas kitara\nBarbako Konak – video\nDejan Koban – poezija\, vokal \nPovezave:\nhttps://soundcloud.com/nevem-nevem\nhttp://nevem-nevem.bandcamp.com/album/vem-da-demo
URL:https://cmakcerkno.net/event/klubski-maraton-2015/
LOCATION:C.M.A.K. Cerkno\, Bevkova ulica 22\, Cerkno\, 5282\, Slovenija
CATEGORIES:Koncert
ATTACH;FMTTYPE=image/jpeg:https://cmakcerkno.net/wp-content/uploads/2015/09/fbcerkno.jpg
END:VEVENT
END:VCALENDAR