BEGIN:VCALENDAR
VERSION:2.0
PRODID:-//C.M.A.K. Cerkno - ECPv5.10.0//NONSGML v1.0//EN
CALSCALE:GREGORIAN
METHOD:PUBLISH
X-WR-CALNAME:C.M.A.K. Cerkno
X-ORIGINAL-URL:https://cmakcerkno.net
X-WR-CALDESC:Events for C.M.A.K. Cerkno
BEGIN:VTIMEZONE
TZID:Europe/Ljubljana
BEGIN:DAYLIGHT
TZOFFSETFROM:+0100
TZOFFSETTO:+0200
TZNAME:CEST
DTSTART:20180325T010000
END:DAYLIGHT
BEGIN:STANDARD
TZOFFSETFROM:+0200
TZOFFSETTO:+0100
TZNAME:CET
DTSTART:20181028T010000
END:STANDARD
END:VTIMEZONE
BEGIN:VEVENT
DTSTART;TZID=Europe/Ljubljana:20181006T220000
DTEND;TZID=Europe/Ljubljana:20181006T235900
DTSTAMP:20260420T101104
CREATED:20181005T084306Z
LAST-MODIFIED:20181005T084701Z
UID:3136-1538863200-1538870340@cmakcerkno.net
SUMMARY:Klubki maraton Radia Študent 2018
DESCRIPTION:Klubski maraton Radia Študent – najmladostnejša in najbolj nora koncertna turneja na domačih tleh letos že osemnajstič razpira preseke alternativne klubske infrastrukture in nove domače ustvarjalnosti\, v MC C.M.A.K. Cerknose tokrat predstavljajo Maskardh & China_traffic. \nMaskardh\nCrossover mrtvaški vod od vsepovsod\nZa vratolom na letošnjem Klubskem maratonu skrbi peterka v prestolnici nastanjenih crossover death metal tehničarjev od vsepovsod. Fantje\, ki so svojo predanost temni strani v preteklosti prakticirali v raznih lokalnih zasedbah\, z Maskardh dionizično stopajo na področje sodobnih satanalij. Veseljaška mrtvaška procesija fanboyev neoklasične glasbe z afiniteto do schranza in vseh odtenkov metalskih groovov za novo generacijo dolgolascev in dolgolask. \nChina_traffic\nBistra kamniška indie mladež \nRdečelične zastavonoše mladostno vihravega indie pesmopisja prihajajo iz garaž pod Kamniško-Savinjskimi Alpami. S preprostim receptom spevnih komadov\, empatičnih tekstov in udarnih nastopov v duhu preteklih maratoncev We Can’t Sleep at Night\, Barely Modern in Blue Town’s Radio se kamniška trojica odpravlja na vijugasto\, kot pekinški promet nepredvidljivo ekspedicijo osvajanja domačih klubov in frekvenc. \nKompilacija Klubskega maratona\nhttps://zars.bandcamp.com/album/klubski-maraton-2018 \nVSTOP PROST !
URL:https://cmakcerkno.net/event/klubki-maraton-radia-student-2018/
LOCATION:C.M.A.K. Cerkno\, Bevkova ulica 22\, Cerkno\, 5282\, Slovenija
CATEGORIES:Koncert
ATTACH;FMTTYPE=image/jpeg:https://cmakcerkno.net/wp-content/uploads/2018/10/KM2018.jpg
END:VEVENT
END:VCALENDAR