BEGIN:VCALENDAR
VERSION:2.0
PRODID:-//C.M.A.K. Cerkno - ECPv5.10.0//NONSGML v1.0//EN
CALSCALE:GREGORIAN
METHOD:PUBLISH
X-WR-CALNAME:C.M.A.K. Cerkno
X-ORIGINAL-URL:https://cmakcerkno.net
X-WR-CALDESC:Events for C.M.A.K. Cerkno
BEGIN:VTIMEZONE
TZID:Europe/Ljubljana
BEGIN:DAYLIGHT
TZOFFSETFROM:+0100
TZOFFSETTO:+0200
TZNAME:CEST
DTSTART:20220327T010000
END:DAYLIGHT
BEGIN:STANDARD
TZOFFSETFROM:+0200
TZOFFSETTO:+0100
TZNAME:CET
DTSTART:20221030T010000
END:STANDARD
END:VTIMEZONE
BEGIN:VEVENT
DTSTART;TZID=Europe/Ljubljana:20221112T170000
DTEND;TZID=Europe/Ljubljana:20221203T120000
DTSTAMP:20260421T070845
CREATED:20221110T084253Z
LAST-MODIFIED:20221118T152555Z
UID:4956-1668272400-1670068800@cmakcerkno.net
SUMMARY:Klara Lapanja: Grafike // razstava Mladi v Stopnišču
DESCRIPTION:Naslednjo razstavo v ciklu “Mladi v Stopnišču” bomo otvorili v soboto\, 12.11. ob 17.00. Tokrat bo svoja dela razstavljala Klara Lapanja\, ki prihaja z lokalnih Idrijsko-Cerkljanskih koncev\, a trenutno živi in deluje večinoma v Ljubljani.\n\n\n\n\nKlara Lapanja je svojo umetniško pot začela na SŠOF\, trenutno pa zaključuje študij slikarstva na Akademiji za likovno umetnost in oblikovanje. Zanimajo jo predvsem grafika\, risba in kolaži\, ukvarja pa se tudi s tetoviranjem. \n\n\n\nRazstavljena dela so nastala v času študija\, nekatera v grafičnem ateljeju\, druga pa v domači kuhinji. Videti je možno različne grafične tehnike kot so linorez\, jedkanica\, akvatinta\, litografija\, sitotisk ter stirografija. Motivi del so različni\, nekateri povsem brezskrbni in skorajda otroški\, drugi bolj premišljeni in natančni. Ponavljajo se motivi deformiranih živali ter motivi ženskih portretov in figur. \n\nProjekt podpirajo: Javni sklad za kulturne dejavnosti\, Občina Cerkno\, Urad za mladino RS
URL:https://cmakcerkno.net/event/klara-lapanja-grafike-razstava-mladi-v-stopniscu/
LOCATION:Galerija Stopnišče\, Bevkova 22\, Cerkno\, 5282\, Slovenija
CATEGORIES:Razstava
END:VEVENT
END:VCALENDAR