BEGIN:VCALENDAR
VERSION:2.0
PRODID:-//C.M.A.K. Cerkno - ECPv5.10.0//NONSGML v1.0//EN
CALSCALE:GREGORIAN
METHOD:PUBLISH
X-WR-CALNAME:C.M.A.K. Cerkno
X-ORIGINAL-URL:https://cmakcerkno.net
X-WR-CALDESC:Events for C.M.A.K. Cerkno
BEGIN:VTIMEZONE
TZID:Europe/Ljubljana
BEGIN:DAYLIGHT
TZOFFSETFROM:+0100
TZOFFSETTO:+0200
TZNAME:CEST
DTSTART:20160327T010000
END:DAYLIGHT
BEGIN:STANDARD
TZOFFSETFROM:+0200
TZOFFSETTO:+0100
TZNAME:CET
DTSTART:20161030T010000
END:STANDARD
END:VTIMEZONE
BEGIN:VEVENT
DTSTART;TZID=Europe/Ljubljana:20160409T170000
DTEND;TZID=Europe/Ljubljana:20160409T235500
DTSTAMP:20260422T143158
CREATED:20160128T171419Z
LAST-MODIFIED:20160128T171419Z
UID:1763-1460221200-1460246100@cmakcerkno.net
SUMMARY:Ki zej\, Memorial? // Moveknowledgement\, Ana Bassin
DESCRIPTION:KI ZEJ\, MEMORIAL?CMAKoncert: Moveknowledgement / koncert ene najboljših zasedb domače grudeGalerija Križišče: Ana Bassin / razstava plakatov škofjeloške digitalne ilustratorkeNa drugo aprilsko soboto bomo jasno in glasno napovedali cerkljanski del memoriala\, ki se bo letos odvijal v prvi polovici maja. Pred leti je pokojni profesor kolesaril na koncerte v Cerkno\, letos se na nek način vrača\, s festivalom v njegov spomin.MOVEKNOWLEDGEMENT so nastali konec 90-ih v Novem mestu. Zasedba\, ki se je prvih nekaj let precej spreminjala in se glasbeno udejanjala v bolj funkovskih vodah\, se je ustalila leta 2007 s tršim in bolj eksperimentalnim zvokom albuma Listen To Nebukadnezar. Od takrat se petčlanska ekipa v postavi Miha Blažič – N’toko\, Dejan Slak\, David Cvelbar\, Uroš Weinberger in Miha Šajina ves čas sprehaja po obrobju hiphopa\, elektronike\, postpunka in duba. Tako Listen To Nebukadnezar (2007) kot tudi Pumpdown!!! (2011) in See (2014) so bili izbrani za album leta po izboru uredništva Radia Študent in drugih medijev. \nhttp://moveknowledgement.tumblr.com/\nhttps://www.facebook.com/MoveknowledgementBand\nhttps://moveknowledgement.bandcamp.com/ \n \nANA BASSIN alias Ana Ba je nekaterim poznana kot izdelovalka ljubkih unikatnih izdelkov z uporabno vrednostjo\, spet drugim kot grafična oblikovalka MKC-ja Pri Rdeči Ostrigi v obdobju 2011 – 2014. Ana je tudi avtorica vsakoletne celostne grafične podobe Festivala In Memoriam prof. Peter Hafner. \nhttp://www.anabassin.si/\nhttps://www.facebook.com/anabassin.anaba \n \nFestival “In Memoriam prof. Peter Hafner” je namenjen počastitvi spomina na pokojnega profesorja matematike Petra Hafnerja\, ki je bil znan tudi kot glasbeni entuziast\, ljubitelj humanistične misli in dejaven aktivist (organizator tematskih glasbenih večerov in prvega festivala Alter-Fest v MKC Pri Rdeči Ostrigi) na področju mladinskega kulturnega polja. »In Memoriam prof. Peter Hafner« skuša na svoj način nadaljevati njegovo pot\, ki je temeljila na ljubezni do vseh zvrsti umetnosti in pravšnji meri družbene kritičnosti. \nhttp://www.inmemoriam.si/
URL:https://cmakcerkno.net/event/ki-zej-memorial-moveknowledgement-ana-bassin/
LOCATION:C.M.A.K. Cerkno\, Bevkova ulica 22\, Cerkno\, 5282\, Slovenija
CATEGORIES:Večzvrstno
END:VEVENT
END:VCALENDAR