BEGIN:VCALENDAR
VERSION:2.0
PRODID:-//C.M.A.K. Cerkno - ECPv5.10.0//NONSGML v1.0//EN
CALSCALE:GREGORIAN
METHOD:PUBLISH
X-WR-CALNAME:C.M.A.K. Cerkno
X-ORIGINAL-URL:https://cmakcerkno.net
X-WR-CALDESC:Events for C.M.A.K. Cerkno
BEGIN:VTIMEZONE
TZID:Europe/Ljubljana
BEGIN:DAYLIGHT
TZOFFSETFROM:+0100
TZOFFSETTO:+0200
TZNAME:CEST
DTSTART:20140330T010000
END:DAYLIGHT
BEGIN:STANDARD
TZOFFSETFROM:+0200
TZOFFSETTO:+0100
TZNAME:CET
DTSTART:20141026T010000
END:STANDARD
END:VTIMEZONE
BEGIN:VEVENT
DTSTART;TZID=Europe/Ljubljana:20141226T160000
DTEND;TZID=Europe/Ljubljana:20141226T180000
DTSTAMP:20260419T183803
CREATED:20141117T174328Z
LAST-MODIFIED:20141117T174328Z
UID:745-1419609600-1419616800@cmakcerkno.net
SUMMARY:Kdo je cerkljanski Pust?
DESCRIPTION:V cerkljanskem prostoru se je ohranilo izročilo o tročanu kot načinu življenja\, ki združuje sile vode\, ognja in zemlje. Bohinjsko izročilo pove\, da gre za življenjsko energijo\, ki prepaja vse. Ljudje so verjeli\, da z določenimi obrednimi dejanji lahko vplivajo na učinkovanje te sile. Predavanje bo predstavilo splošne obrise te predstave in vanjo umestilo lik cerkljanskega Pusta. \nPredaval bo dddr. Andrej Pleterski.
URL:https://cmakcerkno.net/event/kdo-je-cerkljanski-pust/
LOCATION:C.M.A.K. Cerkno\, Bevkova ulica 22\, Cerkno\, 5282\, Slovenija
CATEGORIES:Predavanje
ATTACH;FMTTYPE=image/gif:https://cmakcerkno.net/wp-content/uploads/2014/11/F_Andrej.gif
END:VEVENT
END:VCALENDAR