BEGIN:VCALENDAR
VERSION:2.0
PRODID:-//C.M.A.K. Cerkno - ECPv5.10.0//NONSGML v1.0//EN
CALSCALE:GREGORIAN
METHOD:PUBLISH
X-WR-CALNAME:C.M.A.K. Cerkno
X-ORIGINAL-URL:https://cmakcerkno.net
X-WR-CALDESC:Events for C.M.A.K. Cerkno
BEGIN:VTIMEZONE
TZID:Europe/Ljubljana
BEGIN:DAYLIGHT
TZOFFSETFROM:+0100
TZOFFSETTO:+0200
TZNAME:CEST
DTSTART:20240331T010000
END:DAYLIGHT
BEGIN:STANDARD
TZOFFSETFROM:+0200
TZOFFSETTO:+0100
TZNAME:CET
DTSTART:20241027T010000
END:STANDARD
END:VTIMEZONE
BEGIN:VEVENT
DTSTART;TZID=Europe/Ljubljana:20240323T193000
DTEND;TZID=Europe/Ljubljana:20240323T193000
DTSTAMP:20260420T170932
CREATED:20240320T073720Z
LAST-MODIFIED:20240320T073720Z
UID:5470-1711222200-1711222200@cmakcerkno.net
SUMMARY:Kavč festival x CMAK - Empathology // Future Noir Audio visual experience
DESCRIPTION:Glasba služi kot odsevni medij\, ki presega meje in se potaplja v globine človeške narave. Zajema radosti\, žalosti in kompleksnosti našega obstoja\, zagotavlja platformo za razmislek in samospoznavanje.\nPrizadevamo si ustvariti čustveno in intelektualno zatočišče za naše poslušalce ter delovati kot filter za negativnost.\nZ glasbo izzivamo družbene norme\, soočamo se z nepravičnostjo in spodbujamo empatijo in sočutje. Naše prepričanje je\, da lahko skozi sočutje in kolektivno delovanje gradimo svetlejšo prihodnost vztrajnega duha človeštva\, ki nas spominja\, da imamo tudi v težkih časih sposobnost ustvarjati pozitivne spremembe.\n\n\n\n\nGlasbeno skupino sestavljajo:\n⊗ Leon Z. Slabe – trobenta\, vokal\, efekti\n⊗ Nils Rošker – sekvencer\, vokal\, efekti\n⊗ Gašper Drolec – kitara\, bas kitara\, theremin\n⊗ Urša Čuk – vizualna podoba\, žive vizualizacije \n\n𝗟𝗲𝗼𝗻 𝗭. 𝗦𝗹𝗮𝗯𝗲 (alias LEU) – glasbeni pedagog\, jazz trobentač in skladatelj\, ki je svoje izobraževanje začel v Bonnu (Nemčija) pri madžarskem mojstru trobente – Beli R. Weissbachu in nadaljeval v Celovcu pri prvokategorniku avstrijske in evropske jazz scene – Danielu Nösigu. Na svoji glasbeni poti je imel priložnost sodelovati in ustvarjati s številnimi zasedbami kot so: Las Cuerdas\, T.M.S. Crew\, Big Band GMPU Klagenfurt\, Raggalution\, po Sloveniji in v mednarodnem prostoru. Njegova avtorska dela zaznamuje združitev širokega izbora stilov (jazz\, latin\, reggae\, trip hop\, punk).\n\n𝗡𝗶𝗹𝘀 𝗥𝗼𝘀̌𝗸𝗲𝗿 – pevec in producent\, vokalist pri glasbeni skupini Nubira\, soustvarjalec in koordinator pevskega zbora psihedeličnega društva Slovenije ter orkestra PLAC\, ter eden od producentov in glasbenikov v zasedbi Baba n’ dica. Vrsto let je izvajal tudi elektronske live acte ter DJ sete kot Sun Wu-Kong (Chagga records). Svojo glasbeno izobrazbo je pridobil delno na Dunaju (SAE institute electronic music production course) in v Ljubljani (SAE institute audio engineering diploma.) Najbližje mu je folk/ljudska glasba s pridihom elektronike.\n\n𝗚𝗮𝘀̌𝗽𝗲𝗿 𝗗𝗿𝗼𝗹𝗲𝗰 – producent in ustvarjalec ambientalne glasbe in različnih beatov. Igra kitaro\, bas in theremin. Član orkestra Plac in Psihedeličnega pevskega zbora. Kot ozvočevalec in zvočni tehnik z ekipo Casey Stoner Crew sodeluje na festivalih Floating Castle\, Štrpedov rod\, Spyder in drugih\, ter redno skrbi za zvočno in vizualno podporo na dogodkih elektronske plesne glasbe.\n\n𝗨𝗿𝘀̌𝗮 𝗖̌𝘂𝗸 – vizualna in digitalna umetnica\, ki pod umetniškim imenom rastrLAB raziskuje svet živih vizualizacij. Kot VJ-ka sodeluje z glasbeno zasedbo Monstrumental\, glasbenico Zevin in s klubom Monokel in Tiffany pri vizualizacijah v živo. Trenutno je zaposlena kot kreativna grafičarka v podjetju PRO PLUS\, kjer ustvarja vizualne vsebine za oddaje lastne produkcije programa POP TV.\n\n\n\nOd 18. do 24. marca bo po celi Sloveniji potekal Kavč festival 2024\, ki bo zavzel 150 nekonvencionalnih prizorišč v vseh večjih slovenskih mestih\, kot tudi na podeželju. V domove ter v druge prostore\, bo pripeljal 140 skupin iz celega sveta. Od etna do jazza\, od performansa do lutkovnih predstav. Koordinacijo približno 200 dogodkov koordinira in izvaja peščica prostovoljcev skupaj z ekipo Floating Castle Festivala.\nVstop je prost\, nastopajoče pa lahko direktno podprete\, tako da jim v klobuk namenite prostovoljni prispevek.
URL:https://cmakcerkno.net/event/kavc-festival-x-cmak-empathology-future-noir-audio-visual-experience/
LOCATION:MC CMAK Cerkno\, Predavalnica VCC\, Bevkova 22
CATEGORIES:Gostujemo,Koncert
END:VEVENT
END:VCALENDAR