BEGIN:VCALENDAR
VERSION:2.0
PRODID:-//C.M.A.K. Cerkno - ECPv5.10.0//NONSGML v1.0//EN
CALSCALE:GREGORIAN
METHOD:PUBLISH
X-WR-CALNAME:C.M.A.K. Cerkno
X-ORIGINAL-URL:https://cmakcerkno.net
X-WR-CALDESC:Events for C.M.A.K. Cerkno
BEGIN:VTIMEZONE
TZID:Europe/Ljubljana
BEGIN:DAYLIGHT
TZOFFSETFROM:+0100
TZOFFSETTO:+0200
TZNAME:CEST
DTSTART:20170326T010000
END:DAYLIGHT
BEGIN:STANDARD
TZOFFSETFROM:+0200
TZOFFSETTO:+0100
TZNAME:CET
DTSTART:20171029T010000
END:STANDARD
END:VTIMEZONE
BEGIN:VEVENT
DTSTART;TZID=Europe/Ljubljana:20170421T180000
DTEND;TZID=Europe/Ljubljana:20170421T180000
DTSTAMP:20260421T135516
CREATED:20170323T172003Z
LAST-MODIFIED:20170330T223236Z
UID:2058-1492797600-1492797600@cmakcerkno.net
SUMMARY:Jože Munih - predstavitev knjige "Kamnite sestre zvezd: megaliti naših prednikov"
DESCRIPTION:Jože Munih\, radiestezist\, geomant in izkušen vodnik\, nam bo 21. aprila v C.M.A.K.-u predstavil svojo novo knjigo v kateri piše o zdravilnih vodnih izvirih\, megalitih\, megalitskih krogih in svetiščih ki so bila odkrita v zadnjem času. \nMegalit je velik kamen\, ki je bil uporabljen za gradnjo strukture ali spomenika\, bodisi sam ali skupaj z drugimi kamni. \n  \nNaši predniki so živeli z in od narave\, jo spoštovali in tudi vedeli za njene skrivnosti. \n  \nTo vedenje je spodbudilo Jožeta Muniha k ljubiteljskemu raziskovanju dobrih energij v naravi in njenih skrivnosti s pomočjo radiestezije. Pritegnila ga je predvsem voda v svoji naravni bogatosti in tudi s svojimi skrivnostmi. Pričel je popisovati in meriti izvire\, iz katerih naj bi po ustnem izročilu tekla zdravilna voda. Že leta 1996 je zbrane podatke o zdravilnih lastnostih vodnih virov na Tolminskem podal v knjižni obliki. V letu 1998 je bila izdana knjiga\, ki je opisovala lastnosti in postavitev svetišč v prostoru (Geomantija v trikotniku). Kasneje je podatke o izvirih\, ki so jih starejši ljudje še poznali\, zbiral s pomočjo učencev osnovnih šol v Posočju (tudi Cerkno in Idrija). Doslej je pregledal že preko tri tisoč izvirov iz Posočja\, širše Slovenije ter tudi izven nje. V zadnji knjigi\, ki je bila izdana leta 2012 (ter ponatisa 2015 in 2016)\, je popisal že preko 270 izvirov z lastnostmi »zdravilne« energije. \n  \nJožetova knjiga\, ki opisuje megalitska svetišča naših daljnih prednikov (Kamnite sestre zvezd – Megaliti naših prednikov) je bila predstavljena lani. Na področju Slovenije in izven nje je odkritih več kamnitih krogov\, ki so pred pet do deset tisoč leti takratnim prebivalcem služili kot koledar\, svetišče in zdravilišče. Najbolj ohranjen od teh je Krnski kamniti krog\, ki je enakih dimenzij in energij kot poznani angleški megalitski krog Stonehenge. \n  \nPredavanju se bo pridružil tudi raziskovalec in priznan fotograf Rafael Podobnik\, skupaj z Jožetom namreč že precej let raziskujeta ter se razgledujeta po istih poteh. \n  \n  \nVabljeni-e! \n 
URL:https://cmakcerkno.net/event/joze-munih-predstavitev-knjige-kamnite-sestre-zvezd-megaliti-nasih-prednikov/
LOCATION:C.M.A.K. Cerkno\, Bevkova ulica 22\, Cerkno\, 5282\, Slovenija
CATEGORIES:Predstavitev in debata
END:VEVENT
END:VCALENDAR