BEGIN:VCALENDAR
VERSION:2.0
PRODID:-//C.M.A.K. Cerkno - ECPv5.10.0//NONSGML v1.0//EN
CALSCALE:GREGORIAN
METHOD:PUBLISH
X-WR-CALNAME:C.M.A.K. Cerkno
X-ORIGINAL-URL:https://cmakcerkno.net
X-WR-CALDESC:Events for C.M.A.K. Cerkno
BEGIN:VTIMEZONE
TZID:Europe/Ljubljana
BEGIN:DAYLIGHT
TZOFFSETFROM:+0100
TZOFFSETTO:+0200
TZNAME:CEST
DTSTART:20140330T010000
END:DAYLIGHT
BEGIN:STANDARD
TZOFFSETFROM:+0200
TZOFFSETTO:+0100
TZNAME:CET
DTSTART:20141026T010000
END:STANDARD
END:VTIMEZONE
BEGIN:VEVENT
DTSTART;TZID=Europe/Ljubljana:20141117T170000
DTEND;TZID=Europe/Ljubljana:20141122T200000
DTSTAMP:20260421T105549
CREATED:20141105T164310Z
LAST-MODIFIED:20141110T165558Z
UID:707-1416243600-1416686400@cmakcerkno.net
SUMMARY:Jerneja Stanonik: Iskanje svetlobe
DESCRIPTION:Delo Jerneje Stanonik sestavlja kompozicija sedmih kipov. Za medij si je izbrala glino\, ki je eden prvih materialov v umetnosti. Odločitev za njo ji ni bila težka\, saj njena fleksibilnost omogoča ustvarjanje najrazličnejših oblik\, je topla\, pristna\, prvinska. \nNjeni kipi so postavljeni v temen prostor\, vendar pa ima vsak kip v notranjosti skrite luči\, katere z aktivacijo gledalca pričnejo utripati v svojem intervalu. Postopoma luči ugasnejo\, dokler postopka ponovno ne sproži gledalec in situacija se ponovi. \nOsrednjo kompozicijo sestavlja pet manjših kipov\, ki visijo iz lesene konstrukcije. Poleg kipov visijo še odbojni predmeti\, kot so steklo in kovine. Luči utripajo v ritmu dihanja. Desno je na podstavku kip\, ki je edini pri katerem luč sveti brez prekinitve\, vendar pa prva ugasne. Na skrajno levi strani pa je na tleh kip\, ki je sestavljen iz dveh delov – spodnjega dela in pokrova. V njegovi notranjosti je luč\, ki utripa v ritmu bitja srca in je zadnja\, ki ugasne. Vsi kipi so biskvitno žgani\, nekateri tudi glazurno. Vsa dela so črna\, z izjemo osrednjih kipov\, ki so opečnate barve. \nMorda celoten koncept deluje mračno\, vendar pa je Jerneja delo naslovila Iskanje luči\, saj želi s tem ponazoriti\, da to še ni konec. Treba je le počakati na naslednjega gledalca\, ki bo pritisnil na stikalo in delu ponovno “vdihnil življenje”.
URL:https://cmakcerkno.net/event/jerneja-stanonik-iskanje-luci-2/
LOCATION:C.M.A.K. Cerkno\, Bevkova ulica 22\, Cerkno\, 5282\, Slovenija
CATEGORIES:Razstava
ATTACH;FMTTYPE=image/jpeg:https://cmakcerkno.net/wp-content/uploads/2014/11/letak093a.jpg
END:VEVENT
END:VCALENDAR