BEGIN:VCALENDAR
VERSION:2.0
PRODID:-//C.M.A.K. Cerkno - ECPv5.10.0//NONSGML v1.0//EN
CALSCALE:GREGORIAN
METHOD:PUBLISH
X-WR-CALNAME:C.M.A.K. Cerkno
X-ORIGINAL-URL:https://cmakcerkno.net
X-WR-CALDESC:Events for C.M.A.K. Cerkno
BEGIN:VTIMEZONE
TZID:Europe/Ljubljana
BEGIN:DAYLIGHT
TZOFFSETFROM:+0100
TZOFFSETTO:+0200
TZNAME:CEST
DTSTART:20190331T010000
END:DAYLIGHT
BEGIN:STANDARD
TZOFFSETFROM:+0200
TZOFFSETTO:+0100
TZNAME:CET
DTSTART:20191027T010000
END:STANDARD
END:VTIMEZONE
BEGIN:VEVENT
DTSTART;TZID=Europe/Ljubljana:20190215T210000
DTEND;TZID=Europe/Ljubljana:20190215T210000
DTSTAMP:20260421T175039
CREATED:20190205T124419Z
LAST-MODIFIED:20190205T161821Z
UID:3299-1550264400-1550264400@cmakcerkno.net
SUMMARY:Jam Session ob 22. obletnici delovanja
DESCRIPTION:Vabljeni vsi bolj ali manj izkušeni glasbeniki in glasbenice\, ki bi se želeli preizkusiti v improvizaciji\, da se nam pridružite v C.M.A.K.-u na težko pričakovanem jam session-u!\nZaželeno je\, da s sabo prinesete svoje inštrumente (ojačevalcev in bobnov ni potrebno nositi)\, oziroma se zmenite za souporabo inštrumentov\, ki bodo na voljo.\nOd vseh udeležencev se pričakuje\, da spoštujejo oder in opremo.
URL:https://cmakcerkno.net/event/jam-session-ob-22-obletnici-delovanja/
LOCATION:C.M.A.K. Cerkno\, Bevkova ulica 22\, Cerkno\, 5282\, Slovenija
CATEGORIES:glasbeno ustvarjanje
ATTACH;FMTTYPE=image/jpeg:https://cmakcerkno.net/wp-content/uploads/2015/01/muzika.jpg
END:VEVENT
END:VCALENDAR