BEGIN:VCALENDAR
VERSION:2.0
PRODID:-//C.M.A.K. Cerkno - ECPv5.10.0//NONSGML v1.0//EN
CALSCALE:GREGORIAN
METHOD:PUBLISH
X-WR-CALNAME:C.M.A.K. Cerkno
X-ORIGINAL-URL:https://cmakcerkno.net
X-WR-CALDESC:Events for C.M.A.K. Cerkno
BEGIN:VTIMEZONE
TZID:Europe/Ljubljana
BEGIN:DAYLIGHT
TZOFFSETFROM:+0100
TZOFFSETTO:+0200
TZNAME:CEST
DTSTART:20230326T010000
END:DAYLIGHT
BEGIN:STANDARD
TZOFFSETFROM:+0200
TZOFFSETTO:+0100
TZNAME:CET
DTSTART:20231029T010000
END:STANDARD
END:VTIMEZONE
BEGIN:VEVENT
DTSTART;TZID=Europe/Ljubljana:20230318T190000
DTEND;TZID=Europe/Ljubljana:20230318T233000
DTSTAMP:20260421T125427
CREATED:20230209T213902Z
LAST-MODIFIED:20230315T191138Z
UID:5084-1679166000-1679182200@cmakcerkno.net
SUMMARY:Jam session
DESCRIPTION:Ponovno se bo Pr’ Gabrijelu slišalo uglašene in malo manj uglašene melodije đemanja\, ki bo trajalo pozno v noč.\n\nTokrat se ne bomo omejevali na akustiko ali elektriko\, igrali bomo vse po vrsti…\n\nPrinesi inštrument s seboj\, pa pokaži\, kaj znaš!
URL:https://cmakcerkno.net/event/jam-session-6/
LOCATION:Bar Gabrijel\, Trg prekomorskih brigad 1\, Cerkno\, 5282\, Slovenija
CATEGORIES:glasbeno ustvarjanje
END:VEVENT
END:VCALENDAR