BEGIN:VCALENDAR
VERSION:2.0
PRODID:-//C.M.A.K. Cerkno - ECPv5.10.0//NONSGML v1.0//EN
CALSCALE:GREGORIAN
METHOD:PUBLISH
X-WR-CALNAME:C.M.A.K. Cerkno
X-ORIGINAL-URL:https://cmakcerkno.net
X-WR-CALDESC:Events for C.M.A.K. Cerkno
BEGIN:VTIMEZONE
TZID:Europe/Ljubljana
BEGIN:DAYLIGHT
TZOFFSETFROM:+0100
TZOFFSETTO:+0200
TZNAME:CEST
DTSTART:20220327T010000
END:DAYLIGHT
BEGIN:STANDARD
TZOFFSETFROM:+0200
TZOFFSETTO:+0100
TZNAME:CET
DTSTART:20221030T010000
END:STANDARD
END:VTIMEZONE
BEGIN:VEVENT
DTSTART;TZID=Europe/Ljubljana:20221104T200000
DTEND;TZID=Europe/Ljubljana:20221104T200000
DTSTAMP:20260421T052001
CREATED:20221026T103323Z
LAST-MODIFIED:20221026T103847Z
UID:4935-1667592000-1667592000@cmakcerkno.net
SUMMARY:Jam session
DESCRIPTION:Že dolgo nismo kake skupaj zaigrali! \nZato vabljeni vsi nadebudni glasbeniki\, predvsem pa tudi taki\, ki se z igranjem inštrumentov šele spoznavate\, da damo ustvarjalno energijo na kup in iz nje pričaramo nekaj sočne glasbe 🙂 \nS seboj prinesite svoje inštrumente po izbiri\, bobne\, bas kitaro in nekaj akustičnih inštrumentov priskrbimo mi. \nPrijave niso potrebne\, prav tako ni vstopnine. Če vam ni do igranja\, pa vabljeni tudi samo poslušat.
URL:https://cmakcerkno.net/event/jam-session-5/
LOCATION:C.M.A.K. Cerkno\, Bevkova ulica 22\, Cerkno\, 5282\, Slovenija
CATEGORIES:glasbeno ustvarjanje
END:VEVENT
END:VCALENDAR