BEGIN:VCALENDAR
VERSION:2.0
PRODID:-//C.M.A.K. Cerkno - ECPv5.10.0//NONSGML v1.0//EN
CALSCALE:GREGORIAN
METHOD:PUBLISH
X-WR-CALNAME:C.M.A.K. Cerkno
X-ORIGINAL-URL:https://cmakcerkno.net
X-WR-CALDESC:Events for C.M.A.K. Cerkno
BEGIN:VTIMEZONE
TZID:Europe/Ljubljana
BEGIN:DAYLIGHT
TZOFFSETFROM:+0100
TZOFFSETTO:+0200
TZNAME:CEST
DTSTART:20160327T010000
END:DAYLIGHT
BEGIN:STANDARD
TZOFFSETFROM:+0200
TZOFFSETTO:+0100
TZNAME:CET
DTSTART:20161030T010000
END:STANDARD
END:VTIMEZONE
BEGIN:VEVENT
DTSTART;TZID=Europe/Ljubljana:20160212T200000
DTEND;TZID=Europe/Ljubljana:20160212T235500
DTSTAMP:20260421T205009
CREATED:20160129T191017Z
LAST-MODIFIED:20160129T191017Z
UID:1764-1455307200-1455321300@cmakcerkno.net
SUMMARY:Jam Session
DESCRIPTION:Ob praznovanju 19. obletnice ustanovitve Cerkljanskega mladinskega alternativnega kluba vas vabimo na hrupni jam session.Torej\, vabljeni vsi bolj ali manj izkušeni glasbeniki in glasbenice\, ki bi se želeli preizkusiti v improvizaciji\, da se nam pridružite v C.M.A.K.-u na težko pričakovanem jam session-u!Zaželeno je\, da s sabo prinesete svoje inštrumente (ojačevalcev in bobnov ni potrebno nositi)\, oziroma se zmenite za souporabo inštrumentov\, ki bodo na voljo.Od vseh udeležencev se pričakuje\, da spoštujejo oder in opremo.Se vidimo!Vstop prost.
URL:https://cmakcerkno.net/event/jam-session-3/
LOCATION:C.M.A.K. Cerkno\, Bevkova ulica 22\, Cerkno\, 5282\, Slovenija
CATEGORIES:Klubski večer
ATTACH;FMTTYPE=image/jpeg:https://cmakcerkno.net/wp-content/uploads/2015/01/muzika.jpg
END:VEVENT
END:VCALENDAR