BEGIN:VCALENDAR
VERSION:2.0
PRODID:-//C.M.A.K. Cerkno - ECPv5.10.0//NONSGML v1.0//EN
CALSCALE:GREGORIAN
METHOD:PUBLISH
X-WR-CALNAME:C.M.A.K. Cerkno
X-ORIGINAL-URL:https://cmakcerkno.net
X-WR-CALDESC:Events for C.M.A.K. Cerkno
BEGIN:VTIMEZONE
TZID:Europe/Ljubljana
BEGIN:DAYLIGHT
TZOFFSETFROM:+0100
TZOFFSETTO:+0200
TZNAME:CEST
DTSTART:20220327T010000
END:DAYLIGHT
BEGIN:STANDARD
TZOFFSETFROM:+0200
TZOFFSETTO:+0100
TZNAME:CET
DTSTART:20221030T010000
END:STANDARD
END:VTIMEZONE
BEGIN:VEVENT
DTSTART;TZID=Europe/Ljubljana:20220327T090000
DTEND;TZID=Europe/Ljubljana:20220327T140000
DTSTAMP:20260421T020738
CREATED:20220315T114227Z
LAST-MODIFIED:20220315T114227Z
UID:4744-1648371600-1648389600@cmakcerkno.net
SUMMARY:Izmenjava semen pri fontani
DESCRIPTION:Tudi letos vas z velikim veseljem vabimo na izmenjavo semen\, ki bo potekala v nedeljo\, 27. 3.\, od 9:oo do 14:oo na “Starem placu” pri fontani v Cerknem!\n\nLetos planiramo celo dve izmenjavi\, tokrat bomo izmenjevali zgolj semena\, kasneje v sezoni pa tudi sadike.\nNamen dogodka je preprost: Izmenjava lokalno pridelanih semen od vrtnarja do vrtnarja. Lokalna semena so bolje prilagojena na naše rastno okolje\, bolje kalijo in so pogosto tudi boljšega okusa.\n\nS tem dogodkom želimo povezati različne vrtnarje na Cerkljanskem in okolici ter spodbuditi tradicijo izmenjave domačih semen\, tako kot so to delali že od nekdaj.\nDogodek pa je še bolj pomemben zaradi trenutnega dogajanja po svetu\, saj se vse\, vključno s hrano podražuje\, in samooskrba z lastno hrano in semeni bo lahko v prihodnje še kako ključna.\nČe vrta še nimate\, je sedaj zagotovo dobro leto da začnete!\n\nČe nimate nič semen\, ki bi jih lahko menjali\, pa brez skrbi\, menjali boste lahko tudi za kakšno domačo dobroto\, sprejemamo pa tudi prostovoljne prispevke.\n\nVabljeni_e!
URL:https://cmakcerkno.net/event/izmenjava-semen-pri-fontani/
LOCATION:Star plac (Trg pri fontani)\, Cerkno\, Močnikova ulica 8\, Cerkno\, 5282\, Slovenija
CATEGORIES:Stojnice
ATTACH;FMTTYPE=image/jpeg:https://cmakcerkno.net/wp-content/uploads/2022/03/semena.jpg
END:VEVENT
END:VCALENDAR