BEGIN:VCALENDAR
VERSION:2.0
PRODID:-//C.M.A.K. Cerkno - ECPv5.10.0//NONSGML v1.0//EN
CALSCALE:GREGORIAN
METHOD:PUBLISH
X-WR-CALNAME:C.M.A.K. Cerkno
X-ORIGINAL-URL:https://cmakcerkno.net
X-WR-CALDESC:Events for C.M.A.K. Cerkno
BEGIN:VTIMEZONE
TZID:Europe/Ljubljana
BEGIN:DAYLIGHT
TZOFFSETFROM:+0100
TZOFFSETTO:+0200
TZNAME:CEST
DTSTART:20230326T010000
END:DAYLIGHT
BEGIN:STANDARD
TZOFFSETFROM:+0200
TZOFFSETTO:+0100
TZNAME:CET
DTSTART:20231029T010000
END:STANDARD
END:VTIMEZONE
BEGIN:VEVENT
DTSTART;TZID=Europe/Ljubljana:20230318T140000
DTEND;TZID=Europe/Ljubljana:20230318T190000
DTSTAMP:20260421T112922
CREATED:20230315T191316Z
LAST-MODIFIED:20230315T191343Z
UID:5154-1679148000-1679166000@cmakcerkno.net
SUMMARY:Izmenjava semen Pri fontani
DESCRIPTION:Sadilna sezona se že bliža\, nekateri so jo celo že začeli… skratka pravi cajt za izmenjavo semen!\n\n\n\n\nNamen dogodka je preprost: Izmenjava lokalno pridelanih semen od vrtnarja do vrtnarja. Lokalna semena so bolje prilagojena na naše rastno okolje\, bolje kalijo in so pogosto tudi boljšega okusa. \n\n\n\nS tem dogodkom želimo povezati različne vrtičkarje na Cerkljanskem in okolici ter spodbuditi tradicijo izmenjave dobrih semen\, tako kot so to delali že od nekdaj. Poleg tega je imeti doma nekaj lastnih semen in znanje\, kako vsaj nekatera semena shranjevati\, ključno za samooskrbo. \n\n\n\nČe nimate nič semen\, ki bi jih lahko menjali\, pa brez skrbi\, menjali boste lahko tudi za kakšno domačo dobroto\, sprejemamo pa tudi prostovoljne prispevke. \n\nVabljeni_e na izmenjavo! \n\n\nOb 19.00 pa vabljeni tudi na improvizacijski Jam session\, ki bo potekal v spodnjem delu bara Pr’ Gabrijelu!
URL:https://cmakcerkno.net/event/izmenjava-semen-pri-fontani-2/
LOCATION:Star plac (Trg pri fontani)\, Cerkno\, Močnikova ulica 8\, Cerkno\, 5282\, Slovenija
CATEGORIES:Stojnice
END:VEVENT
END:VCALENDAR