BEGIN:VCALENDAR
VERSION:2.0
PRODID:-//C.M.A.K. Cerkno - ECPv5.10.0//NONSGML v1.0//EN
CALSCALE:GREGORIAN
METHOD:PUBLISH
X-WR-CALNAME:C.M.A.K. Cerkno
X-ORIGINAL-URL:https://cmakcerkno.net
X-WR-CALDESC:Events for C.M.A.K. Cerkno
BEGIN:VTIMEZONE
TZID:Europe/Ljubljana
BEGIN:DAYLIGHT
TZOFFSETFROM:+0100
TZOFFSETTO:+0200
TZNAME:CEST
DTSTART:20140330T010000
END:DAYLIGHT
BEGIN:STANDARD
TZOFFSETFROM:+0200
TZOFFSETTO:+0100
TZNAME:CET
DTSTART:20141026T010000
END:STANDARD
END:VTIMEZONE
BEGIN:VEVENT
DTSTART;TZID=Europe/Ljubljana:20140915T170000
DTEND;TZID=Europe/Ljubljana:20140920T200000
DTSTAMP:20260420T025403
CREATED:20140918T182641Z
LAST-MODIFIED:20140919T140705Z
UID:577-1410800400-1411243200@cmakcerkno.net
SUMMARY:Iz teme v svetlobo in igro barv
DESCRIPTION:Karin Mugerli: Iz teme v svetlobo in igro barv \nGalerijo Križišče bo odprla dvodelna razstava Karin Mugerli\, ki bo predstavila svoje črno-bele grafike (pod naslovom »Svetlobe in sence«) in svoje izjemno barvite in reliefne akrilne slike na platnu (pod naslovom »Skrivnosti morskega dna«). Slike so izdelane v tehniki kvilinga ali papirnega filigrana\, pri katerem iz papirnatih trakov\, zvitih v svitke\, dobimo različne oblike. Tako njena grafična kot slikarska dela so abstraktna; v grafikah globokega tiska prevladujejo točke in črte\, ki jim dinamiko daje igra svetlobe in senc\, na platnih pa opazimo elemente abstraktnega ekspresionizma (kjer poljubne oblike in barve vizualizirajo umetničina čustva) in akcijskega slikarstva (kapljanje in polivanje barve na platno). Čeprav njena dela ne posnemajo resničnosti\, v akrilih Karin Mugerli lahko prepoznamo barvno razkošje morskega sveta: žareče alge in korale ter občutena prehajanja med odtenki modrine. \nKarin Mugerli (1990) prihaja iz okolice Tolmina. Na umetniški gimnaziji v Novi Gorici se je seznanila z različnimi slikarskimi in grafičnimi tehnikami. Od leta 2011 je vključena v Kulturno društvo likovnih ustvarjalcev Tolmin\, zadnje dve leti pa vodi tudi likovne delavnice. Julija 2012 je s sestro odprla minigalerijo KarMa\, kjer občasno razstavlja. Lani je diplomirala iz likovne pedagogike\, trenutno končuje drugostopenjski magistrski študij poučevanja likovne pedagogike. Razstavljala je na številnih skupinskih razstavah\, denimo na razstavi dijakov in študentov Zgornjega Posočja (2011)\, razstavi Jesenske čarovnije (2011) in Povečava (2012). Sodeluje tudi na razstavi\, ki krasi izložbe v starem mestnem jedru Tolmina. \nOtvoritev 12.9. ob 20.00\, odprta do 27.9. pon – sob od 17.00 do 20.00\, razen ob sredah od 10h -13h.
URL:https://cmakcerkno.net/event/iz-teme-v-svetlobo-in-igro-barv-2/
LOCATION:C.M.A.K. Cerkno\, Bevkova ulica 22\, Cerkno\, 5282\, Slovenija
CATEGORIES:Razstava
ATTACH;FMTTYPE=image/jpeg:https://cmakcerkno.net/wp-content/uploads/2014/09/skrivnosti-morskega-dna2-net.jpg
END:VEVENT
END:VCALENDAR