BEGIN:VCALENDAR
VERSION:2.0
PRODID:-//C.M.A.K. Cerkno - ECPv5.10.0//NONSGML v1.0//EN
CALSCALE:GREGORIAN
METHOD:PUBLISH
X-WR-CALNAME:C.M.A.K. Cerkno
X-ORIGINAL-URL:https://cmakcerkno.net
X-WR-CALDESC:Events for C.M.A.K. Cerkno
BEGIN:VTIMEZONE
TZID:Europe/Ljubljana
BEGIN:DAYLIGHT
TZOFFSETFROM:+0100
TZOFFSETTO:+0200
TZNAME:CEST
DTSTART:20160327T010000
END:DAYLIGHT
BEGIN:STANDARD
TZOFFSETFROM:+0200
TZOFFSETTO:+0100
TZNAME:CET
DTSTART:20161030T010000
END:STANDARD
END:VTIMEZONE
BEGIN:VEVENT
DTSTART;TZID=Europe/Ljubljana:20160219T180000
DTEND;TZID=Europe/Ljubljana:20160219T200000
DTSTAMP:20260421T190246
CREATED:20160202T173126Z
LAST-MODIFIED:20160202T231224Z
UID:1768-1455904800-1455912000@cmakcerkno.net
SUMMARY:Iz nevidne strani neba - predstavitev knjige Pavla Medveščka
DESCRIPTION:V veliko veselje nam je najaviti\, da se bo Pavel Medvešček zopet mudil v Cerknem. Tokrat nam bo predstavil svojo zadnjo\, dolgo pričakovano knjigo “Iz nevidne strani neba”\, v kateri razkrije dolgo zamolčane skrivnosti posoških starovercev\, ki bi brez njega prav gotovo šle v pozabo. Knjiga je velikanskega pomena za raziskovanje tradicionalne duhovne kulture posoških starovercev\, katerih predkrščanska vera se je kljub pokristjanjevanju ohranila skoraj do današnjih dni.\n \nPavel nam bo na predstavitvi knjige opisal tudi življenje ter pripovedi starovercev pod Poreznom\, ki skupaj s Kojco ter Orlovimi glavami tvori glavni tročan tega področja. Najbolj pomembno svetišče stare vere na Cerkljanskem pa je mogočna skala Kamrtna\, ki je povezana z vodo spodaj ter veliko zvezdo zgoraj.\n \nVljudno vabljene/-i.\n \nDogodek poteka v soorganizaciji mladinskega centra C.M.A.K. Cerkno\, Cerkljanskega muzeja in društva Slovenski staroverci.\n 
URL:https://cmakcerkno.net/event/iz-nevidne-strani-neba-predstavitev-knjige-pavla-medvescka/
LOCATION:Cerkljanski muzej\, Bevkova ulica 12\, Cerkno\, 5282
CATEGORIES:Predstavitev in debata
ATTACH;FMTTYPE=image/jpeg:https://cmakcerkno.net/wp-content/uploads/2016/02/babja-jama.jpg
END:VEVENT
END:VCALENDAR