BEGIN:VCALENDAR
VERSION:2.0
PRODID:-//C.M.A.K. Cerkno - ECPv5.10.0//NONSGML v1.0//EN
CALSCALE:GREGORIAN
METHOD:PUBLISH
X-WR-CALNAME:C.M.A.K. Cerkno
X-ORIGINAL-URL:https://cmakcerkno.net
X-WR-CALDESC:Events for C.M.A.K. Cerkno
BEGIN:VTIMEZONE
TZID:Europe/Ljubljana
BEGIN:DAYLIGHT
TZOFFSETFROM:+0100
TZOFFSETTO:+0200
TZNAME:CEST
DTSTART:20190331T010000
END:DAYLIGHT
BEGIN:STANDARD
TZOFFSETFROM:+0200
TZOFFSETTO:+0100
TZNAME:CET
DTSTART:20191027T010000
END:STANDARD
END:VTIMEZONE
BEGIN:VEVENT
DTSTART;TZID=Europe/Ljubljana:20190715T210000
DTEND;TZID=Europe/Ljubljana:20190715T235900
DTSTAMP:20260420T044825
CREATED:20190723T065514Z
LAST-MODIFIED:20190723T065528Z
UID:3608-1563224400-1563235140@cmakcerkno.net
SUMMARY:Innhopp Project Afterpaty
DESCRIPTION:Pristanek  v Labinjah in zabava v CMAK-u.
URL:https://cmakcerkno.net/event/innhopp-project-afterpaty/
CATEGORIES:Klubski večer
END:VEVENT
END:VCALENDAR