BEGIN:VCALENDAR
VERSION:2.0
PRODID:-//C.M.A.K. Cerkno - ECPv5.10.0//NONSGML v1.0//EN
CALSCALE:GREGORIAN
METHOD:PUBLISH
X-WR-CALNAME:C.M.A.K. Cerkno
X-ORIGINAL-URL:https://cmakcerkno.net
X-WR-CALDESC:Events for C.M.A.K. Cerkno
BEGIN:VTIMEZONE
TZID:Europe/Ljubljana
BEGIN:DAYLIGHT
TZOFFSETFROM:+0100
TZOFFSETTO:+0200
TZNAME:CEST
DTSTART:20220327T010000
END:DAYLIGHT
BEGIN:STANDARD
TZOFFSETFROM:+0200
TZOFFSETTO:+0100
TZNAME:CET
DTSTART:20221030T010000
END:STANDARD
END:VTIMEZONE
BEGIN:VEVENT
DTSTART;TZID=Europe/Ljubljana:20220916T190000
DTEND;TZID=Europe/Ljubljana:20220916T190000
DTSTAMP:20260421T013812
CREATED:20220911T184514Z
LAST-MODIFIED:20220911T184514Z
UID:4931-1663354800-1663354800@cmakcerkno.net
SUMMARY:Haiku Garden\, Seine\, Aug.unis // 24. Cmakajne
DESCRIPTION:Petek\, 16. september ob 19.00\nStar plac pri fontani\, Cerkno \n19.00 – Aug.unis\, augmented unison\nZačetki projekta Aug.unis segajo v leto 2020\, ko sta bobnar Elvis Homan in saksofonist ter elektrofonik Boštjan Simon nastopila na plesnem festivalu Spider v parku Tivoli v Ljubljani\, nastop pa ponovila leto kasneje skupaj s plesalcem Benom Novakom. \nUkvarjata se z na pol odprtimi formami za improvizacijo in interakcijo z elektronskimi inštrumenti. Elvis uporablja modularni sintetizator v povezavi z akustičnim zvokom bobnov in pol-modularen drone sintetizator Lyra\, Boštjan pa uporablja modularni sintetizator v povezavi z zvokom saksofona in nekaterimi Moog efekti. \n\n20.30 – Seine \n\nSeine je projekt hrvaškega kantavtorja Ivana Ščapca\, ki ga je bilo v Cerknem moč slišati že lani\, na kantavtorskem večeru Cmakajna.\nTokrat pa se vrača z bendom\, ki se je v zadnjih letih uveljavil kot eden najbolj originalnih in slogovno izmuzljivih regionalnih glasbenih fenomenov. \n\n\n\nAprila letos so izdali že svoj tretji album Naizust\, ki jo zaznamuje drzen obrat proti bolj minimalističnim aranžmajem\, zamolklim instrumentalom in misterioznim atmosferam. \n\nFB: https://www.facebook.com/Seine23\nIG: https://www.instagram.com/seine_sno/\nBC: https://seine.bandcamp.com/\n\n\nSeine – Nebo: https://www.youtube.com/watch?v=ihfFNvXLzgQ\n\n\n\n\n22.00 – Haiku Garden\n\n\n»Pionirji slovenskega shoegaza« na lovu za lastnim noisepopoidnim izrazom ne sprejemajo kompromisov. Na novem\, težko pričakovanem drugem albumu s hitrejšimi ritmi in intenzivnejšo zvočno podobo še bolj suvereno spajajo vplive shoegaza\, postpunka\, krautrocka in noisa. \n\n\n”Ena bolj očitnih kvalitet živih nastopov Haiku Garden je njihovo rutinirano muziciranje\, uigranost\, samozavest na podlagi zdaj že konkretnih izkušenj s koncertiranjem. Na odru preprosto dobro izgledajo\, delujejo naravno in več kot očitno uživajo v vsaki mali inštrumentalni eskapadi. Imajo izpiljen estetski karakter\, precej zvesto publiko in avro benda\, ki je suvereno prepričan v svoj izraz in ki se zaveda\, da velja za eno prominentnejših domačih kitarskih formacij.”\n– Luka Hreščak\, Radio Študent\, recenzija promocijskega koncert\n\n\nJunija letos so izdali že svoj 3. samostojni album: Loose Contacts / Tense Present\, ki že žanje pohvale po Sloveniji in širom.\n\n\n\nHaiku garden – Levitate youtu.be/6M9ztWthGF8\nHaiku Garden – Rosetta: https://youtu.be/j2UkDyPDFls\n\nFB: https://www.facebook.com/HaikuGardenBand/\nIG: https://www.instagram.com/haikugardenbend/\nBC: https://kaparecords.bandcamp.com/album/loose-contacts-tense-present-2\n\n\n\n\n\n\n 
URL:https://cmakcerkno.net/event/haiku-garden-seine-aug-unis-24-cmakajne/
LOCATION:Star plac (Trg pri fontani)\, Cerkno\, Močnikova ulica 8\, Cerkno\, 5282\, Slovenija
CATEGORIES:CMAKoncert,Festival
END:VEVENT
END:VCALENDAR