BEGIN:VCALENDAR
VERSION:2.0
PRODID:-//C.M.A.K. Cerkno - ECPv5.10.0//NONSGML v1.0//EN
CALSCALE:GREGORIAN
METHOD:PUBLISH
X-WR-CALNAME:C.M.A.K. Cerkno
X-ORIGINAL-URL:https://cmakcerkno.net
X-WR-CALDESC:Events for C.M.A.K. Cerkno
BEGIN:VTIMEZONE
TZID:Europe/Ljubljana
BEGIN:DAYLIGHT
TZOFFSETFROM:+0100
TZOFFSETTO:+0200
TZNAME:CEST
DTSTART:20140330T010000
END:DAYLIGHT
BEGIN:STANDARD
TZOFFSETFROM:+0200
TZOFFSETTO:+0100
TZNAME:CET
DTSTART:20141026T010000
END:STANDARD
END:VTIMEZONE
BEGIN:VEVENT
DTSTART;TZID=Europe/Ljubljana:20141203T170000
DTEND;TZID=Europe/Ljubljana:20141203T200000
DTSTAMP:20260420T180720
CREATED:20141201T110925Z
LAST-MODIFIED:20141201T152402Z
UID:808-1417626000-1417636800@cmakcerkno.net
SUMMARY:Gostujemo: Poplava kulture v Mariboru
DESCRIPTION:Večer EVS\n \nVse\, kar ste si vedno želeli vedeti o Evropski prostovoljni službi\, pa si niste upali vprašati!\nOdgovore boste dobili v sredo\, 3. 12. 2014\, ob 17. uri v MISC INFOPEKA. \n \nKaj je EVS? Kako najti dober EVS projekt? Kako najti pošiljajočo in gostujočo organizacijo? Potrebujem kakšne izkušnje\, preden se prijavim na EVS? Se lahko prijavim takoj po končani srednji šoli?\n \nProgram:\n– »POPLAVA KULTURE« – projekcija dokumentarca EVS prostovoljke iz Portugalske\, ki je delovala v Cerkljanskem mladinskem alternativnem klubu (C.M.A.K. Cerkno). »Filipa Oliveira raziskuje vzroke participacije in kulturnega udejstvovanja mladih v Cerkljanski regiji ter kaj za njih pomeni biti aktiven.«\n– Pogovor s trenutnima EVS prostovoljkama v MISC INFOPEKA\, Clementine Clenet in Jade Clisson. Govorili bosta o življenju kot EVS prostovoljki\, svojem delu\, aktivnostih in izkušnjah\, ki sta jih pridobili v 10 mesecih bivanja v Mariboru.\n \nCeloten večer bo pospremljen z dobro atmosfero\, hrano in zabavo.
URL:https://cmakcerkno.net/event/gostujemo-poplava-kulture-v-mariboru/
LOCATION:Pekarna Magdalenske mreže\, Ob železnici 8\, Maribor\, 2000\, Slovenija
CATEGORIES:Gostujemo
ATTACH;FMTTYPE=image/jpeg:https://cmakcerkno.net/wp-content/uploads/2014/11/naslovnica_FB-copy.jpg
END:VEVENT
END:VCALENDAR