BEGIN:VCALENDAR
VERSION:2.0
PRODID:-//C.M.A.K. Cerkno - ECPv5.10.0//NONSGML v1.0//EN
CALSCALE:GREGORIAN
METHOD:PUBLISH
X-WR-CALNAME:C.M.A.K. Cerkno
X-ORIGINAL-URL:https://cmakcerkno.net
X-WR-CALDESC:Events for C.M.A.K. Cerkno
BEGIN:VTIMEZONE
TZID:Europe/Ljubljana
BEGIN:DAYLIGHT
TZOFFSETFROM:+0100
TZOFFSETTO:+0200
TZNAME:CEST
DTSTART:20140330T010000
END:DAYLIGHT
BEGIN:STANDARD
TZOFFSETFROM:+0200
TZOFFSETTO:+0100
TZNAME:CET
DTSTART:20141026T010000
END:STANDARD
END:VTIMEZONE
BEGIN:VEVENT
DTSTART;TZID=Europe/Ljubljana:20141206T120000
DTEND;TZID=Europe/Ljubljana:20141206T121000
DTSTAMP:20260420T232619
CREATED:20141201T151657Z
LAST-MODIFIED:20141202T172044Z
UID:813-1417867200-1417867800@cmakcerkno.net
SUMMARY:Gostujemo: OD UH DO UH na Luksuz festivalu poceni filma
DESCRIPTION:OD UH DO UH je kratek animirani film\, ki je nastal na delavnicah stop motion animacije mladinskega centra C.M.A.K. Cerkno. Animirani film je tehnološka čarovnija. Manipulacija s časom in prostorom na industrijski način. Orodja in naprave\, ki strukturirajo današnjo avtomatizirano stvarnost\, so uporabljene zato\, da zgradijo njeno nasprotje\, svet kaotične lepote. Prostor\, ki smo ga sestavili sličico po sličico\, ne sledi vsiljenim modelom stvarnosti in zato deluje resničnejši od resnice\, ki nam je dovoljena. \nVeč o Luksuz festivalu poceni filma dobite tukaj oz tukaj.
URL:https://cmakcerkno.net/event/gostujemo-od-uh-do-uh-na-luksuz-festivalu-poceni-filma/
LOCATION:MC Krško\, Cesta krških žrtev 105\, Krško\, 8270\, Slovenija
CATEGORIES:Gostujemo
ATTACH;FMTTYPE=image/jpeg:https://cmakcerkno.net/wp-content/uploads/2014/12/od_uh_do_uh_2_web.jpg
END:VEVENT
END:VCALENDAR