BEGIN:VCALENDAR
VERSION:2.0
PRODID:-//C.M.A.K. Cerkno - ECPv5.10.0//NONSGML v1.0//EN
CALSCALE:GREGORIAN
METHOD:PUBLISH
X-WR-CALNAME:C.M.A.K. Cerkno
X-ORIGINAL-URL:https://cmakcerkno.net
X-WR-CALDESC:Events for C.M.A.K. Cerkno
BEGIN:VTIMEZONE
TZID:Europe/Ljubljana
BEGIN:DAYLIGHT
TZOFFSETFROM:+0100
TZOFFSETTO:+0200
TZNAME:CEST
DTSTART:20140330T010000
END:DAYLIGHT
BEGIN:STANDARD
TZOFFSETFROM:+0200
TZOFFSETTO:+0100
TZNAME:CET
DTSTART:20141026T010000
END:STANDARD
END:VTIMEZONE
BEGIN:VEVENT
DTSTART;TZID=Europe/Ljubljana:20140923T190000
DTEND;TZID=Europe/Ljubljana:20140923T210000
DTSTAMP:20260420T200456
CREATED:20141103T163451Z
LAST-MODIFIED:20141103T163903Z
UID:691-1411498800-1411506000@cmakcerkno.net
SUMMARY:Gostujemo: Cmakovi filmi v Škofji Loki
DESCRIPTION:Spored: \nDogodivščine letečega krta (2004) / stop-motion animacija\, ki je bila narejena v okviru otroških delavnic leta 2004. Avtorji filma: Ajda Podobnik\, Vanda Podobnik in Matevž Močnik. Mentor: Simon Hudolin – Salči. \nMe\, Myself & the Letter (2009) / prvi kratki film na temo “pismo”\, ki je nastal v okviru CMAKove filmske delavnice pod mentorstvom Cecile Horreau. Avtorica: Sanja Rejc \nLetter News (2009) / drugi kratki film na temo “pismo”. Avtor: Matija Lupšina \nThe Letter (2009) / tretji kratki film na temo “pismo”. Avtor: Borut Mlakar \nTa glaunu pr’ pustu (2009) / avtorji in avtorice skozi film hočejo prikazati odnos domačinov do (sezonskih) delavcev iz bivše Jugoslavije – in obratno – ter tako poskusiti ozavestiti vse vpletene na pomembnost drugačnosti kultur in osebnosti ter njihovega sobivanja v določenem okolju. Film je nastajal v okviru CMAKove filmske delavnice pod mentorstom Cecile Horreau. Avtorji filma so: Branka Prezelj\, Catarina Leal\, Janoš Lampič\, Matjaž Peternelj in Tjaša Jurman. \nDIY in Cerkno (2009) / cerkljanska mladina vsako leto organizira kulturno – glasbeni festival CMAKAJNE v popolni DIY maniri. Avtorica: Catarina Leal. Produkcija: Luksuz produkcija \nOd uh do uh (2013) / animirani film je tehnološka čarovnija. Manipulacija s časom in prostorom na industrijski način.
URL:https://cmakcerkno.net/event/gostujemo-cmakovi-filmi-v-skofji-loki/
LOCATION:Škofjeloški grad
CATEGORIES:Gostujemo
END:VEVENT
END:VCALENDAR