BEGIN:VCALENDAR
VERSION:2.0
PRODID:-//C.M.A.K. Cerkno - ECPv5.10.0//NONSGML v1.0//EN
CALSCALE:GREGORIAN
METHOD:PUBLISH
X-WR-CALNAME:C.M.A.K. Cerkno
X-ORIGINAL-URL:https://cmakcerkno.net
X-WR-CALDESC:Events for C.M.A.K. Cerkno
BEGIN:VTIMEZONE
TZID:Europe/Ljubljana
BEGIN:DAYLIGHT
TZOFFSETFROM:+0100
TZOFFSETTO:+0200
TZNAME:CEST
DTSTART:20180325T010000
END:DAYLIGHT
BEGIN:STANDARD
TZOFFSETFROM:+0200
TZOFFSETTO:+0100
TZNAME:CET
DTSTART:20181028T010000
END:STANDARD
END:VTIMEZONE
BEGIN:VEVENT
DTSTART;TZID=Europe/Ljubljana:20180908T180000
DTEND;TZID=Europe/Ljubljana:20180928T210000
DTSTAMP:20260421T163742
CREATED:20180830T162334Z
LAST-MODIFIED:20180903T081804Z
UID:3008-1536429600-1538168400@cmakcerkno.net
SUMMARY:Fotografska razstava GJV no.1 - 20. festival Cmakajne
DESCRIPTION:Letošnje Cmakajna bomo ponovno začeli v galeriji Križišče\, kjer se nam bodo s fotografijami predstavili dijaki Gimnazija Jurija Vege Idrija.\nAjda Tušar\, Julija Rejc\, Manja Kolenc\, Črtomir Hadalin in Maks Brus so pod mentorstvom Nejca Menarda v lanskem šolskem letu skozi fotografski objektiv opazovali idrijske znamenitosti in ustvarjali svoje portrete.\nDijak Maks Brus pa si je za samostojni izziv izbral temo mladih v povezavi s sodobno tehnologijo.
URL:https://cmakcerkno.net/event/fotografska-razstava-gjv-no-1/
LOCATION:Galerija Križišče\, Bevkova ulica 11 \, Cerkno\, 5282\, Slovenija
CATEGORIES:Razstava
ATTACH;FMTTYPE=image/jpeg:https://cmakcerkno.net/wp-content/uploads/2018/08/Cmakajne-banner-small.jpg
END:VEVENT
END:VCALENDAR