BEGIN:VCALENDAR
VERSION:2.0
PRODID:-//C.M.A.K. Cerkno - ECPv5.10.0//NONSGML v1.0//EN
CALSCALE:GREGORIAN
METHOD:PUBLISH
X-WR-CALNAME:C.M.A.K. Cerkno
X-ORIGINAL-URL:https://cmakcerkno.net
X-WR-CALDESC:Events for C.M.A.K. Cerkno
BEGIN:VTIMEZONE
TZID:Europe/Ljubljana
BEGIN:DAYLIGHT
TZOFFSETFROM:+0100
TZOFFSETTO:+0200
TZNAME:CEST
DTSTART:20220327T010000
END:DAYLIGHT
BEGIN:STANDARD
TZOFFSETFROM:+0200
TZOFFSETTO:+0100
TZNAME:CET
DTSTART:20221030T010000
END:STANDARD
END:VTIMEZONE
BEGIN:VEVENT
DTSTART;TZID=Europe/Ljubljana:20220812T200000
DTEND;TZID=Europe/Ljubljana:20220812T200000
DTSTAMP:20260421T022357
CREATED:20220805T043817Z
LAST-MODIFIED:20220810T044124Z
UID:4878-1660334400-1660334400@cmakcerkno.net
SUMMARY:Ena za reko: Zgodba Save - CMAKino na prostem
DESCRIPTION:Ta petek vabljeni na CMAKino na prostem na dvorišče za Večnamenskim centrom Cerkno\, kjer bomo predvajali film\, posvečen naši najdaljši in najbolj zeleni reki\, Savi. \n\n\n\n\nIzrezuje kanjone\, prinaša rodovitno prst\, ustvarja brzice\, gnezdišča in globoke tolmune. Ljudje pijejo njeno vodo\, je navdih za pesmi in prepire ter vir energije. Reka Sava je tekoča povezava med štirimi državami in neštetimi ekosistemi. \n\n\n\nDokumentarni film Ena za reko: Zgodba Save je s svojimi 84 minutami pravi celovečerec.\nMaterial za film je bil posnet lani med veslanjem celotnega toka Save v Sloveniji; od Podkorena in Bohinja je ekipa štirih kajakašev 11 dni veslala vse do Jesenic na Dolenjskem. Med 258 preveslanimi kilometri so našli kup dogodivščin\, zapletov\, spoznanj in uvidov v negotovo prihodnost te prelepe reke.\n\n\n\n\nČeprav že močno načeta z jezovi in industrijo\, Sava v zadnjih desetletjih spet postaja polna življenja in potenciala za to\, da jo vsi skupaj zares spoznamo. Pričujoči film bo dober uvod v to. Vabljeni!\n\nV primeru dežja bo dogodek potekal v Večnamenski dvorani VCC.\n\n\nIdeja: Rok Rozman\nRežiser: Rožle Bregar\nProducent: Rok Rozman\nKamera: Rožle Bregar & Mitja Legat\nMontažer: Denis Artač\nSkladatelj glasbe: Janez Dovč\nMusic: Brencl Banda\, Le Serpentine\, Katalena\nIlustracije: Maja Poljanc\nAnimiranje: Mitja Legat & Toni Stanovnik\nProdukcija: Leeway Collective\nKoprodukcija: Vizualist & LegitFilms\nOmogočeno s pomočjo: NRS | Pyranha Kayaks | Ortlieb
URL:https://cmakcerkno.net/event/ena-za-reko-zgodba-save-cmakino-na-prostem/
LOCATION:Dvorišče pred VCC\, Bevkova ulica 22\, Cerkno\, 5282\, Slovenija
CATEGORIES:Film
END:VEVENT
END:VCALENDAR