BEGIN:VCALENDAR
VERSION:2.0
PRODID:-//C.M.A.K. Cerkno - ECPv5.10.0//NONSGML v1.0//EN
CALSCALE:GREGORIAN
METHOD:PUBLISH
X-WR-CALNAME:C.M.A.K. Cerkno
X-ORIGINAL-URL:https://cmakcerkno.net
X-WR-CALDESC:Events for C.M.A.K. Cerkno
BEGIN:VTIMEZONE
TZID:Europe/Ljubljana
BEGIN:DAYLIGHT
TZOFFSETFROM:+0100
TZOFFSETTO:+0200
TZNAME:CEST
DTSTART:20230326T010000
END:DAYLIGHT
BEGIN:STANDARD
TZOFFSETFROM:+0200
TZOFFSETTO:+0100
TZNAME:CET
DTSTART:20231029T010000
END:STANDARD
END:VTIMEZONE
BEGIN:VEVENT
DTSTART;TZID=Europe/Ljubljana:20230308T190000
DTEND;TZID=Europe/Ljubljana:20230308T190000
DTSTAMP:20260421T092738
CREATED:20230221T212138Z
LAST-MODIFIED:20230221T212244Z
UID:5108-1678302000-1678302000@cmakcerkno.net
SUMMARY:Dokumentarni film: Vsa ta lepota in prelivanje krvi / 10. Deuje babe
DESCRIPTION:Na Mednarodni dan žensk\,\nSreda\, 8. marec\, ob 19:00\nFilmsko gledališče Idrija\nLaura Poitras – Vsa ta lepota in prelivanje krvi (Dokumentarni film)\n113′\, v angleščini s slovenskimi podnapisi\nVstopnina: 5\,00 €\n\n\n\nFotografinja in vizualna umetnica Nan Goldin že od zgodnjih sedemdesetih let dokumentira intimno življenje prijateljev in umetnikov\, vključno z lastnim\, ter se tako poklanja ljudem in subkulturam\, ki jih družba vse prepogosto stigmatizira. Leta 2017 se je podala v boj proti družini Sackler\, farmacevtskim gigantom in filantropom\, ki so najprestižnejšim muzejem po vsem svetu darovali milijone. Nan Goldin\, ki je tudi sama preživela zasvojenost z opioidi\, je s svojo aktivistično skupino P.A.I.N. organizirala akcije\, s katerimi so Sacklerjeve in njihovo več milijard dolarjev vredno podjetje obtožili odgovornosti za opioidno krizo.\nVsa ta lepota in prelivanje krvi pripoveduje zgodbo Nan Goldin z njenimi lastnimi besedami\, prepletajoč preteklost in sedanjost s pomočjo bogatega izbora fotografij in diapozitivov\, arhivskega gradiva ter posnetkov akcij v nekaterih najpomembnejših muzejih. Globoko osebni in hkrati izrazito politični dokumentarec Laure Poitras raziskuje neločljivo povezanost med aktivizmom ter življenjem in umetniškim delom Nan Goldin\, ene najvidnejših svetovnih fotografinj. Na lanskem (2022) festivalu v Benetkah je prejel zlatega leva za najboljši film.\n\n\nVeč o filmu: https://fivia.si/ind…/movie/vsa-lepota-in-prelivanje-krvi/\nVeč o Nan Golding: https://www.moma.org/artists/7532\n\n\nSoorganizacija: C.M.A.K. in Filmsko gledališče Idrija; podpora: Filmsko gledališče Idrija (Mestna knjižnica in čitalnica Idrija)\, Občina Cerkno\, Urad za mladino.\n\n\n———————————-\nLaura Poitras je režiserka dokumentarnih filmov\, novinarka in umetnica. Leta 2015 je bil v Sloveniji na ogled njen z oskarjem nagrajeni dokumentarec Citizenfour\, sklepni del trilogije\, v kateri je raziskovala učinke ameriške »vojne proti terorizmu« po 11. septembru. Prvi del\, My Country\, My Country\, se je osredotočal na iraško vojno in je režiserki poleg nominacije za oskarja prinesel uvrstitev na tajni seznam teroristov ameriške vlade\, drugi\, The Oath (2010) o Guantánamu\, pa je bil nagrajen za najboljšo fotografijo na Sundanceu in prejel dve nominaciji za nagrado emmy. S članki o ameriški Agenciji za nacionalno varnost (NSA)\, nastalimi na podlagi Snowdenovih dokumentov\, je Laura Poitras prispevala k prestižni Pulitzerjevi nagradi za javno službo\, ki sta jo leta 2014 prejela The Guardian in The Washington Post. Leta 2016 so v muzeju Whitney priredili umetničino prvo samostojno razstavo\, serijo instalacij\, ki so se osredotočale na tako imenovano vojno proti terorizmu. Dokumentarec Vsa ta lepota in prelivanje krvi je bil premierno prikazan v lanskem (2022) tekmovalnem programu festivala v Benetkah\, kjer je prejel zlatega leva za najboljši film.
URL:https://cmakcerkno.net/event/dokumentarni-film-vsa-ta-lepota-in-prelivanje-krvi-10-deuje-babe/
LOCATION:Filmsko gledališče Idrija\, Trg sv. Ahacija 5\, Idrija\, 5280\, Slovenija
CATEGORIES:Deuje babe,Festival,Film
END:VEVENT
END:VCALENDAR