BEGIN:VCALENDAR
VERSION:2.0
PRODID:-//C.M.A.K. Cerkno - ECPv5.10.0//NONSGML v1.0//EN
CALSCALE:GREGORIAN
METHOD:PUBLISH
X-WR-CALNAME:C.M.A.K. Cerkno
X-ORIGINAL-URL:https://cmakcerkno.net
X-WR-CALDESC:Events for C.M.A.K. Cerkno
BEGIN:VTIMEZONE
TZID:Europe/Ljubljana
BEGIN:DAYLIGHT
TZOFFSETFROM:+0100
TZOFFSETTO:+0200
TZNAME:CEST
DTSTART:20200329T010000
END:DAYLIGHT
BEGIN:STANDARD
TZOFFSETFROM:+0200
TZOFFSETTO:+0100
TZNAME:CET
DTSTART:20201025T010000
END:STANDARD
END:VTIMEZONE
BEGIN:VEVENT
DTSTART;TZID=Europe/Ljubljana:20201227T200000
DTEND;TZID=Europe/Ljubljana:20201227T213000
DTSTAMP:20260421T020738
CREATED:20201224T132006Z
LAST-MODIFIED:20210102T153146Z
UID:4094-1609099200-1609104600@cmakcerkno.net
SUMMARY:DJ Boycey (UK) - CMAKoncert live stream party
DESCRIPTION:Ponedeljek\, 28.12. ob 20.00. Prenos bo potekal na naših Youtube in Facebook kanalih. \nV tretjem in zadnjem letošnjem CMAKoncert-nem prednovoletnem livestreamu\, se nam bo s svojo zmešanico break elektro acid tehna predstavil londonski DJ in producent Boycey. Boycey je obenem socialni agitator in varuh miru\, ki venomer stremi k izpopolnjevanju svojih sposobnosti ustvarjanja in mešanja glasbe na paru gramofonov. \n\n\n\nBoycey pa ne bo nastopil sam\, pridružil se mu bo tudi VJ Stormfield\, ki bo poskrbel\, da se bo bliskalo tudi od video projekcij. \nPričakujte nepričakovano. \n~ https://www.mixcloud.com/dj_boycey/~ http://www.combatrecordings.com/~ https://www.facebook.com/Stormfield-18050443196/ \n 
URL:https://cmakcerkno.net/event/dj-boycey-uk-cmakoncert-live-stream-party/
LOCATION:Svetovni splet
CATEGORIES:CMAKoncert
END:VEVENT
END:VCALENDAR