BEGIN:VCALENDAR
VERSION:2.0
PRODID:-//C.M.A.K. Cerkno - ECPv5.10.0//NONSGML v1.0//EN
CALSCALE:GREGORIAN
METHOD:PUBLISH
X-WR-CALNAME:C.M.A.K. Cerkno
X-ORIGINAL-URL:https://cmakcerkno.net
X-WR-CALDESC:Events for C.M.A.K. Cerkno
BEGIN:VTIMEZONE
TZID:Europe/Ljubljana
BEGIN:DAYLIGHT
TZOFFSETFROM:+0100
TZOFFSETTO:+0200
TZNAME:CEST
DTSTART:20170326T010000
END:DAYLIGHT
BEGIN:STANDARD
TZOFFSETFROM:+0200
TZOFFSETTO:+0100
TZNAME:CET
DTSTART:20171029T010000
END:STANDARD
END:VTIMEZONE
BEGIN:VEVENT
DTSTART;TZID=Europe/Ljubljana:20170325T200000
DTEND;TZID=Europe/Ljubljana:20170325T230000
DTSTAMP:20260421T192002
CREATED:20170306T175013Z
LAST-MODIFIED:20170321T123246Z
UID:2038-1490472000-1490482800@cmakcerkno.net
SUMMARY:Deuji pesniški slam
DESCRIPTION:Pesniški slam je odprta prireditev\, recital poezije v drugačnem\, tekmovalnem duhu\, na kateri pesniki in pesnice različnih pesniških profilov z nastopom pred kritično publiko predstavijo svoje delo ali ga na odru kar ustvarijo. \nTema večera bo spol\, ki ni samo biološki\, psihološki\, ampak tudi slovnični! Izvirnost\, družbena-kritičnost\, polemičnost\, feministični diskurz so torej več kot zaželeni. (Ne)spremenjeni spol osebe lahko več kot zgovorno govori skozi slam poezijo\, ki se zadnji dve leti širi po slovenskem literarnem prostoru. \nKdo bo najboljši ali najboljša na Deujem pesniškem večeru? Vabljeni in vabljene k sodelovanju kot nastopajoči/e in del navdušenega občinstva! \nPosnetek iz lanskoletnega evropskega prvenstva slam poezije:  https://www.youtube.com/watch?v=BeZlvm4hCbw \n  \nPotek pesniškega slama \nVečer slam poezije bo sestavljen iz treh tekmovalnih krogov. Vsak nastopajoči ali nastopajoča\, ki se za nastop prijavi ob pričetku večera\, naj ima pripravljene do tri avtorske pesmi. Za pesmi je najbolje\, da jih zna na pamet\, saj v nasprotnem primeru nase nadene odštekan klobuk. \nNa odru je od nastopajoče oziroma nastopajočega odvisno\, na kakšen način bo odinterpretiral/a svojo pesem in to brez rekvizitov in kostumov in v največ treh minutah. Lahko pa tudi nastopi kot improvizator ali improvizatorka. V prvih dveh krogih točkuje tekmovalce tričlanska komisija\, naključno izbrana iz občinstva. V zadnjem krogu se pomerita dva najboljša\, dve najboljši. Končna beseda bo pripadla publiki\, ki bo presodila z bučnim aplavzom. \n  \nSodelujejo \nSlam zverine predstavljajo vznik slam poezije v Mariboru\, ki se je začela lansko zimo. Ekipo sestavlja raznolika skupina pesnic in pesnika\, ki vsak na svoj način piše in interpretira literaturo  Zbirajo se na tedenskih vajah\, na katerih vadijo z avtorsko poezijo in z odrskim nastopom. Pod okriljem MKC Črke Maribor in ostalih organizacij vsak mesec organizirajo slam večere\, imenovane Ožuljeni jezik. Slam poezijo s predstavitvenimi delavnicami širijo po mariborskih srednjih šolah\, lansko leto so izvedli tudi prvi performans v sklopu Lenta in v soorganizacijiiSiSlama prvo državno prvenstvo v slam poeziji\, ki je potekalo v Mariboru. \nBanda Ferdamana je improvizacijska skupina iz Maribora\, ki že približno deset let skrbi za smeh in visok nivo improvizacije na štajerskem koncu. Tokrat bodo za Deuji pesniški slam posodili Mojco Pibernik\, da bo kot moderatorka poskrbela za odličen večer neukročene poezije. \n  \nDogodek je brezplačen. Prostovoljni prispevki so zelo dobrodošli. \nOrganizacija: Deuje babe v sodelovanju s Slam zverinami\, BandoFerdamano\, MKC Mariborom\, MKC Črko in Barom Pr’ Gabrijelu. \nDogodek je finančno podprl MC C.M.A.K. Cerkno. \n  \nFacebook: https://www.facebook.com/events/1379751035397398/ \n  \n 
URL:https://cmakcerkno.net/event/deuji-pesniski-slam/
LOCATION:Bar Gabrijel\, Trg prekomorskih brigad 1\, Cerkno\, 5282\, Slovenija
CATEGORIES:Poezija
ATTACH;FMTTYPE=image/jpeg:https://cmakcerkno.net/wp-content/uploads/2017/03/Slam-zverine+banda-zaFB.jpg
END:VEVENT
END:VCALENDAR