BEGIN:VCALENDAR
VERSION:2.0
PRODID:-//C.M.A.K. Cerkno - ECPv5.10.0//NONSGML v1.0//EN
CALSCALE:GREGORIAN
METHOD:PUBLISH
X-WR-CALNAME:C.M.A.K. Cerkno
X-ORIGINAL-URL:https://cmakcerkno.net
X-WR-CALDESC:Events for C.M.A.K. Cerkno
BEGIN:VTIMEZONE
TZID:Europe/Ljubljana
BEGIN:DAYLIGHT
TZOFFSETFROM:+0100
TZOFFSETTO:+0200
TZNAME:CEST
DTSTART:20190331T010000
END:DAYLIGHT
BEGIN:STANDARD
TZOFFSETFROM:+0200
TZOFFSETTO:+0100
TZNAME:CET
DTSTART:20191027T010000
END:STANDARD
END:VTIMEZONE
BEGIN:VEVENT
DTSTART;TZID=Europe/Ljubljana:20190817T090000
DTEND;TZID=Europe/Ljubljana:20190818T160000
DTSTAMP:20260420T042947
CREATED:20190812T150419Z
LAST-MODIFIED:20190812T150419Z
UID:3629-1566032400-1566144000@cmakcerkno.net
SUMMARY:Delavnica stop-motion animacije
DESCRIPTION:Vabljeni na dvodnevno delavnico Stop motion animacije ki bo potekala v sklopu 21. festivala Cmakajne. Naučili in preizkusili se boste v izdelavi čisto prave risanke\, s tehniko animiranja plastelina\, risanja na papir\, ali pa z živimi osebami – odvisno od želje udeležencev. S seboj je zaželjeno da prinesete dobre ideje\, kake predmete\, ki bi jih radi vključili kot igralce\, obilo dobre volje\, pa tudi nekaj potrpljenja. Delavnica je primerna za vse starosti. \nDelavnica bo potekala v zgornjih prostorih CMAK-a\, v soboto in nedeljo cel dan\, s pričetkom ob 9.00 in koncem ob 16.00. Po želji in potrebah udeležencev se urnik lahko spremeni\, poleg tega je po želji tudi možnost kosila v CMAK-u. \nPrijave in dodatna vprašanja naslovite na cmak2@siol.net ali na 051-253-220 (Sebastjan). Vnaprejšnje prijave so zaradi predvidevanja potrebne količine opreme zelo zaželjene! \nVabljeni tudi v soboto zvečer na ogled letošnjih najboljših risank na filmskem festivalu Stop trik\, saj so le-te narejene z isto tehniko kot jo bomo uporabljali na delavnici. Več: https://www.facebook.com/events/2096514777321839/ \nDelavnica je brezplačna!
URL:https://cmakcerkno.net/event/delavnica-stop-motion-animacije/
LOCATION:C.M.A.K. Cerkno\, Bevkova ulica 22\, Cerkno\, 5282\, Slovenija
CATEGORIES:Delavnica
ATTACH;FMTTYPE=image/jpeg:https://cmakcerkno.net/wp-content/uploads/2019/08/stop-motion_delavnica.jpg
END:VEVENT
END:VCALENDAR