BEGIN:VCALENDAR
VERSION:2.0
PRODID:-//C.M.A.K. Cerkno - ECPv5.10.0//NONSGML v1.0//EN
CALSCALE:GREGORIAN
METHOD:PUBLISH
X-WR-CALNAME:C.M.A.K. Cerkno
X-ORIGINAL-URL:https://cmakcerkno.net
X-WR-CALDESC:Events for C.M.A.K. Cerkno
BEGIN:VTIMEZONE
TZID:Europe/Ljubljana
BEGIN:DAYLIGHT
TZOFFSETFROM:+0100
TZOFFSETTO:+0200
TZNAME:CEST
DTSTART:20150329T010000
END:DAYLIGHT
BEGIN:STANDARD
TZOFFSETFROM:+0200
TZOFFSETTO:+0100
TZNAME:CET
DTSTART:20151025T010000
END:STANDARD
END:VTIMEZONE
BEGIN:VEVENT
DTSTART;TZID=Europe/Ljubljana:20150824T170000
DTEND;TZID=Europe/Ljubljana:20150830T220000
DTSTAMP:20260420T071005
CREATED:20150819T164814Z
LAST-MODIFIED:20160106T175232Z
UID:1743-1440435600-1440972000@cmakcerkno.net
SUMMARY:Delavnica obnovitvenih gradbenih del
DESCRIPTION:Se želiš naučiti procesa obnove prostorov? Potem se nam pridruži na delavnici obnovitvenih gradbenih del\, ki poteka v pritličju C.M.A.K.-a\, Bevkova ulica 11. Pod mentorstvom izkušenih mačkov se boš naučil/-a marsičesa uporabnega v zvezi z zaključnimi gradbenimi deli\, glede na svoje predznanje pa se boš lahko preizkusil/-a v različnih delih in izpil/-a svoje delivne tehnike. Tokrat bomo urejali prostore bodoče pisarne. \nDelavnica je seveda brezplačna.
URL:https://cmakcerkno.net/event/delavnica-obnovitvenih-gradbenih-del-2/
LOCATION:C.M.A.K. Cerkno\, Bevkova ulica 22\, Cerkno\, 5282\, Slovenija
CATEGORIES:Delavnica
ATTACH;FMTTYPE=image/jpeg:https://cmakcerkno.net/wp-content/uploads/2016/01/IMG_6917.jpg
END:VEVENT
END:VCALENDAR