BEGIN:VCALENDAR
VERSION:2.0
PRODID:-//C.M.A.K. Cerkno - ECPv5.10.0//NONSGML v1.0//EN
CALSCALE:GREGORIAN
METHOD:PUBLISH
X-WR-CALNAME:C.M.A.K. Cerkno
X-ORIGINAL-URL:https://cmakcerkno.net
X-WR-CALDESC:Events for C.M.A.K. Cerkno
BEGIN:VTIMEZONE
TZID:Europe/Ljubljana
BEGIN:DAYLIGHT
TZOFFSETFROM:+0100
TZOFFSETTO:+0200
TZNAME:CEST
DTSTART:20140330T010000
END:DAYLIGHT
BEGIN:STANDARD
TZOFFSETFROM:+0200
TZOFFSETTO:+0100
TZNAME:CET
DTSTART:20141026T010000
END:STANDARD
END:VTIMEZONE
BEGIN:VEVENT
DTSTART;TZID=Europe/Ljubljana:20140922T180000
DTEND;TZID=Europe/Ljubljana:20140925T210000
DTSTAMP:20260420T215634
CREATED:20140930T141606Z
LAST-MODIFIED:20140930T141606Z
UID:604-1411408800-1411678800@cmakcerkno.net
SUMMARY:Delavnica obiranja grozdja in kuhe sokov
DESCRIPTION:Želiš izvedeti kako se obira grozdje in na kaj je pri tem potrebno biti pazljiv/-a? Ali kako skuhati sirup? Če ja\, potem si vabljena na Delavnico obiranja grozdja in kuhe sokov. Obrali bomo namreč trto\, ki raste na dvorišču mladiskega centra C.M.A.K. in iz njega naredili sirup\, ki smo ga pred leti poimenovali “Ni lih duobr\, je pa naš”. No\, pravzaprav z leti postaja vedno boljši. \nDelavnica bo potekala od ponedeljka\, 22. do četrtka 25. septembra od 16h do 21h. Delavnica je brezplačna. \nVabljen/-a.
URL:https://cmakcerkno.net/event/delavnica-obiranja-grozdja-in-kuhe-sokov/
LOCATION:C.M.A.K. Cerkno\, Bevkova ulica 22\, Cerkno\, 5282\, Slovenija
CATEGORIES:Delavnica
END:VEVENT
END:VCALENDAR