BEGIN:VCALENDAR
VERSION:2.0
PRODID:-//C.M.A.K. Cerkno - ECPv5.10.0//NONSGML v1.0//EN
CALSCALE:GREGORIAN
METHOD:PUBLISH
X-WR-CALNAME:C.M.A.K. Cerkno
X-ORIGINAL-URL:https://cmakcerkno.net
X-WR-CALDESC:Events for C.M.A.K. Cerkno
BEGIN:VTIMEZONE
TZID:Europe/Ljubljana
BEGIN:DAYLIGHT
TZOFFSETFROM:+0100
TZOFFSETTO:+0200
TZNAME:CEST
DTSTART:20220327T010000
END:DAYLIGHT
BEGIN:STANDARD
TZOFFSETFROM:+0200
TZOFFSETTO:+0100
TZNAME:CET
DTSTART:20221030T010000
END:STANDARD
END:VTIMEZONE
BEGIN:VEVENT
DTSTART;TZID=Europe/Ljubljana:20221118T193000
DTEND;TZID=Europe/Ljubljana:20221118T193000
DTSTAMP:20260421T133742
CREATED:20221112T172213Z
LAST-MODIFIED:20221116T174414Z
UID:4970-1668799800-1668799800@cmakcerkno.net
SUMMARY:Delavnica na temo Mladinskih izmenjav in Evropske solidarnostne enote
DESCRIPTION:Si vedel/a\, \n\nda za mlade od 15. do 30. leta obstaja več vrst mladinskih izmenjav?\nDa lahko trajajo vse od 10 dni pa do enega leta?\nDa ti skoraj v celoti EU časti prevoz do tja\, nastanitev in prehrano?\nDa so lahko zasnovane okoli res velikega števila tematik – pomoč v šolah ali izobraževalnih zavodih\, delo na trajnostnih kmetijah\, digitalni detox\, aktivizem na področju klimatskih sprememb\, socialnih pravic..?\n\n\n\n Bi se mogoče katere rad/a udeležil/a\, pa ne veš dovolj o njih?\n\n\n\n\n Potem pridi 𝐯 𝐩𝐞𝐭𝐞𝐤\, 𝟏𝟖.𝟏𝟏. 𝐨𝐛 𝟏𝟗.𝟑𝟎 𝐯 𝐯𝐞𝐜̌𝐧𝐚𝐦𝐞𝐧𝐬𝐤𝐨 𝐩𝐫𝐞𝐝𝐚𝐯𝐚𝐥𝐧𝐢𝐜𝐨 𝐕𝐂𝐂 𝐧𝐚 𝐁𝐞𝐯𝐤𝐨𝐯𝐢 𝟐𝟐.\nTam bo potekala delavnica/predavanje\, ki ga organiziramo v sodelovanju z s Kulturno izobraževalno društvo PiNA\, ki se s tovrstnimi projekti ukvarja že vrsto let.\n\n\n\n\nPredstavili bojo priložnosti\, ki se jih kot mlada oseba lahko udeležiš v okviru programa Erasmus + in Evropske solidarnostne enote.\nNa zabaven način boste spoznali več o različnih projektih\, ki ponujajo možnosti krajšega bivanja v tujini ali v domači državi\, pridobivanja izkušenj in krepitve osebnih veščin. Za dodaten navdih pa boste slišali tudi zgodbe prostovoljcev\, ki so na podobnih projektih že sodelovali.\n\n\n\n\n\n\n\nIzmenjave ti lahko razširijo obzorje in dajo ogromno novih izkušenj in prijateljstev\, zato svetujemo\, da se opogumiš in udeležiš katere izmed njih!\n\n\n\n\nVabljeni\, vabljene!
URL:https://cmakcerkno.net/event/delavnica-na-temo-mladinskih-izmenjav-in-evropske-solidarnostne-enote/
LOCATION:MC CMAK Cerkno\, Predavalnica VCC\, Bevkova 22
CATEGORIES:Delavnica,Predavanje
END:VEVENT
END:VCALENDAR